BEGIN:VCALENDAR
VERSION:2.0
PRODID:http://www.kufer.de/kuferweb / DE
METHOD:PUBLISH
CALSCALE:GREGORIAN
X-WR-TIMEZONE:Europe/Berlin
BEGIN:VTIMEZONE
TZID:Europe/Berlin
X-LIC-LOCATION:Europe/Berlin
BEGIN:DAYLIGHT
TZOFFSETFROM:+0100
TZOFFSETTO:+0200
TZNAME:CEST
DTSTART;TZID=Europe/Berlin:19700329T020000
RRULE:FREQ=YEARLY;INTERVAL=1;BYDAY=-1SU;BYMONTH=3
END:DAYLIGHT
BEGIN:STANDARD
TZOFFSETFROM:+0200
TZOFFSETTO:+0100
TZNAME:CET
DTSTART;TZID=Europe/Berlin:19701025T030000
RRULE:FREQ=YEARLY;INTERVAL=1;BYDAY=-1SU;BYMONTH=10
END:STANDARD
END:VTIMEZONE
BEGIN:VEVENT
DTSTAMP:20260422T070138
DTSTART;TZID=Europe/Berlin:20261012T190000
DTEND;TZID=Europe/Berlin:20261012T203000
UID:262AB564-20261012T190000@STÄDTISCHE VOLKSHOCHSCHULE ABENSBERG UND NEUSTADT
SUMMARY:Tanzkurs für Fortgeschrittene (262AB564) 
LOCATION:Abensberg, Prälat-Michael-Thaller-Schule, Regensburger Str. 58, Regensburger Str. 58, 93326 Abensberg
END:VEVENT
BEGIN:VEVENT
DTSTAMP:20260422T070138
DTSTART;TZID=Europe/Berlin:20261019T190000
DTEND;TZID=Europe/Berlin:20261019T203000
UID:262AB564-20261019T190000@STÄDTISCHE VOLKSHOCHSCHULE ABENSBERG UND NEUSTADT
SUMMARY:Tanzkurs für Fortgeschrittene (262AB564) 
LOCATION:Abensberg, Prälat-Michael-Thaller-Schule, Regensburger Str. 58, Regensburger Str. 58, 93326 Abensberg
END:VEVENT
BEGIN:VEVENT
DTSTAMP:20260422T070138
DTSTART;TZID=Europe/Berlin:20261026T190000
DTEND;TZID=Europe/Berlin:20261026T203000
UID:262AB564-20261026T190000@STÄDTISCHE VOLKSHOCHSCHULE ABENSBERG UND NEUSTADT
SUMMARY:Tanzkurs für Fortgeschrittene (262AB564) 
LOCATION:Abensberg, Prälat-Michael-Thaller-Schule, Regensburger Str. 58, Regensburger Str. 58, 93326 Abensberg
END:VEVENT
BEGIN:VEVENT
DTSTAMP:20260422T070138
DTSTART;TZID=Europe/Berlin:20261102T190000
DTEND;TZID=Europe/Berlin:20261102T203000
UID:262AB564-20261102T190000@STÄDTISCHE VOLKSHOCHSCHULE ABENSBERG UND NEUSTADT
SUMMARY:Tanzkurs für Fortgeschrittene (262AB564) 
LOCATION:Abensberg, Prälat-Michael-Thaller-Schule, Regensburger Str. 58, Regensburger Str. 58, 93326 Abensberg
END:VEVENT
END:VCALENDAR