BEGIN:VCALENDAR
VERSION:2.0
PRODID:http://www.kufer.de/kuferweb / DE
METHOD:PUBLISH
CALSCALE:GREGORIAN
X-WR-TIMEZONE:Europe/Berlin
BEGIN:VTIMEZONE
TZID:Europe/Berlin
X-LIC-LOCATION:Europe/Berlin
BEGIN:DAYLIGHT
TZOFFSETFROM:+0100
TZOFFSETTO:+0200
TZNAME:CEST
DTSTART;TZID=Europe/Berlin:19700329T020000
RRULE:FREQ=YEARLY;INTERVAL=1;BYDAY=-1SU;BYMONTH=3
END:DAYLIGHT
BEGIN:STANDARD
TZOFFSETFROM:+0200
TZOFFSETTO:+0100
TZNAME:CET
DTSTART;TZID=Europe/Berlin:19701025T030000
RRULE:FREQ=YEARLY;INTERVAL=1;BYDAY=-1SU;BYMONTH=10
END:STANDARD
END:VTIMEZONE
BEGIN:VEVENT
DTSTAMP:20260420T035429
DTSTART;TZID=Europe/Berlin:20260609T180000
DTEND;TZID=Europe/Berlin:20260609T190000
UID:261TR410B-20260609T180000@STÄDTISCHE VOLKSHOCHSCHULE ABENSBERG UND NEUSTADT
SUMMARY:Zumba® (261TR410B) 
LOCATION:Train, Sporthalle/, Schulstraße 3, 93358 Train
END:VEVENT
BEGIN:VEVENT
DTSTAMP:20260420T035429
DTSTART;TZID=Europe/Berlin:20260616T180000
DTEND;TZID=Europe/Berlin:20260616T190000
UID:261TR410B-20260616T180000@STÄDTISCHE VOLKSHOCHSCHULE ABENSBERG UND NEUSTADT
SUMMARY:Zumba® (261TR410B) 
LOCATION:Train, Sporthalle/, Schulstraße 3, 93358 Train
END:VEVENT
BEGIN:VEVENT
DTSTAMP:20260420T035429
DTSTART;TZID=Europe/Berlin:20260623T180000
DTEND;TZID=Europe/Berlin:20260623T190000
UID:261TR410B-20260623T180000@STÄDTISCHE VOLKSHOCHSCHULE ABENSBERG UND NEUSTADT
SUMMARY:Zumba® (261TR410B) 
LOCATION:Train, Sporthalle/, Schulstraße 3, 93358 Train
END:VEVENT
BEGIN:VEVENT
DTSTAMP:20260420T035429
DTSTART;TZID=Europe/Berlin:20260630T180000
DTEND;TZID=Europe/Berlin:20260630T190000
UID:261TR410B-20260630T180000@STÄDTISCHE VOLKSHOCHSCHULE ABENSBERG UND NEUSTADT
SUMMARY:Zumba® (261TR410B) 
LOCATION:Train, Sporthalle/, Schulstraße 3, 93358 Train
END:VEVENT
BEGIN:VEVENT
DTSTAMP:20260420T035429
DTSTART;TZID=Europe/Berlin:20260707T180000
DTEND;TZID=Europe/Berlin:20260707T190000
UID:261TR410B-20260707T180000@STÄDTISCHE VOLKSHOCHSCHULE ABENSBERG UND NEUSTADT
SUMMARY:Zumba® (261TR410B) 
LOCATION:Train, Sporthalle/, Schulstraße 3, 93358 Train
END:VEVENT
BEGIN:VEVENT
DTSTAMP:20260420T035429
DTSTART;TZID=Europe/Berlin:20260714T180000
DTEND;TZID=Europe/Berlin:20260714T190000
UID:261TR410B-20260714T180000@STÄDTISCHE VOLKSHOCHSCHULE ABENSBERG UND NEUSTADT
SUMMARY:Zumba® (261TR410B) 
LOCATION:Train, Sporthalle/, Schulstraße 3, 93358 Train
END:VEVENT
BEGIN:VEVENT
DTSTAMP:20260420T035429
DTSTART;TZID=Europe/Berlin:20260721T180000
DTEND;TZID=Europe/Berlin:20260721T190000
UID:261TR410B-20260721T180000@STÄDTISCHE VOLKSHOCHSCHULE ABENSBERG UND NEUSTADT
SUMMARY:Zumba® (261TR410B) 
LOCATION:Train, Sporthalle/, Schulstraße 3, 93358 Train
END:VEVENT
BEGIN:VEVENT
DTSTAMP:20260420T035429
DTSTART;TZID=Europe/Berlin:20260728T180000
DTEND;TZID=Europe/Berlin:20260728T190000
UID:261TR410B-20260728T180000@STÄDTISCHE VOLKSHOCHSCHULE ABENSBERG UND NEUSTADT
SUMMARY:Zumba® (261TR410B) 
LOCATION:Train, Sporthalle/, Schulstraße 3, 93358 Train
END:VEVENT
END:VCALENDAR