BEGIN:VCALENDAR
VERSION:2.0
PRODID:http://www.kufer.de/kuferweb / DE
METHOD:PUBLISH
CALSCALE:GREGORIAN
X-WR-TIMEZONE:Europe/Berlin
BEGIN:VTIMEZONE
TZID:Europe/Berlin
X-LIC-LOCATION:Europe/Berlin
BEGIN:DAYLIGHT
TZOFFSETFROM:+0100
TZOFFSETTO:+0200
TZNAME:CEST
DTSTART;TZID=Europe/Berlin:19700329T020000
RRULE:FREQ=YEARLY;INTERVAL=1;BYDAY=-1SU;BYMONTH=3
END:DAYLIGHT
BEGIN:STANDARD
TZOFFSETFROM:+0200
TZOFFSETTO:+0100
TZNAME:CET
DTSTART;TZID=Europe/Berlin:19701025T030000
RRULE:FREQ=YEARLY;INTERVAL=1;BYDAY=-1SU;BYMONTH=10
END:STANDARD
END:VTIMEZONE
BEGIN:VEVENT
DTSTAMP:20260421T094551
DTSTART;TZID=Europe/Berlin:20260610T180000
DTEND;TZID=Europe/Berlin:20260610T191500
UID:261TR404B-20260610T180000@STÄDTISCHE VOLKSHOCHSCHULE ABENSBERG UND NEUSTADT
SUMMARY:FeetUp ® - Yoga (261TR404B) 
LOCATION:Train, Mehrzweckraum in Sporthalle, Schulstraße 3, 93358 Train
END:VEVENT
BEGIN:VEVENT
DTSTAMP:20260421T094551
DTSTART;TZID=Europe/Berlin:20260617T180000
DTEND;TZID=Europe/Berlin:20260617T191500
UID:261TR404B-20260617T180000@STÄDTISCHE VOLKSHOCHSCHULE ABENSBERG UND NEUSTADT
SUMMARY:FeetUp ® - Yoga (261TR404B) 
LOCATION:Train, Mehrzweckraum in Sporthalle, Schulstraße 3, 93358 Train
END:VEVENT
BEGIN:VEVENT
DTSTAMP:20260421T094551
DTSTART;TZID=Europe/Berlin:20260624T180000
DTEND;TZID=Europe/Berlin:20260624T191500
UID:261TR404B-20260624T180000@STÄDTISCHE VOLKSHOCHSCHULE ABENSBERG UND NEUSTADT
SUMMARY:FeetUp ® - Yoga (261TR404B) 
LOCATION:Train, Mehrzweckraum in Sporthalle, Schulstraße 3, 93358 Train
END:VEVENT
BEGIN:VEVENT
DTSTAMP:20260421T094551
DTSTART;TZID=Europe/Berlin:20260701T180000
DTEND;TZID=Europe/Berlin:20260701T191500
UID:261TR404B-20260701T180000@STÄDTISCHE VOLKSHOCHSCHULE ABENSBERG UND NEUSTADT
SUMMARY:FeetUp ® - Yoga (261TR404B) 
LOCATION:Train, Mehrzweckraum in Sporthalle, Schulstraße 3, 93358 Train
END:VEVENT
BEGIN:VEVENT
DTSTAMP:20260421T094551
DTSTART;TZID=Europe/Berlin:20260708T180000
DTEND;TZID=Europe/Berlin:20260708T191500
UID:261TR404B-20260708T180000@STÄDTISCHE VOLKSHOCHSCHULE ABENSBERG UND NEUSTADT
SUMMARY:FeetUp ® - Yoga (261TR404B) 
LOCATION:Train, Mehrzweckraum in Sporthalle, Schulstraße 3, 93358 Train
END:VEVENT
BEGIN:VEVENT
DTSTAMP:20260421T094551
DTSTART;TZID=Europe/Berlin:20260715T180000
DTEND;TZID=Europe/Berlin:20260715T191500
UID:261TR404B-20260715T180000@STÄDTISCHE VOLKSHOCHSCHULE ABENSBERG UND NEUSTADT
SUMMARY:FeetUp ® - Yoga (261TR404B) 
LOCATION:Train, Mehrzweckraum in Sporthalle, Schulstraße 3, 93358 Train
END:VEVENT
BEGIN:VEVENT
DTSTAMP:20260421T094551
DTSTART;TZID=Europe/Berlin:20260722T180000
DTEND;TZID=Europe/Berlin:20260722T191500
UID:261TR404B-20260722T180000@STÄDTISCHE VOLKSHOCHSCHULE ABENSBERG UND NEUSTADT
SUMMARY:FeetUp ® - Yoga (261TR404B) 
LOCATION:Train, Mehrzweckraum in Sporthalle, Schulstraße 3, 93358 Train
END:VEVENT
BEGIN:VEVENT
DTSTAMP:20260421T094551
DTSTART;TZID=Europe/Berlin:20260729T180000
DTEND;TZID=Europe/Berlin:20260729T191500
UID:261TR404B-20260729T180000@STÄDTISCHE VOLKSHOCHSCHULE ABENSBERG UND NEUSTADT
SUMMARY:FeetUp ® - Yoga (261TR404B) 
LOCATION:Train, Mehrzweckraum in Sporthalle, Schulstraße 3, 93358 Train
END:VEVENT
END:VCALENDAR