BEGIN:VCALENDAR
VERSION:2.0
PRODID:http://www.kufer.de/kuferweb / DE
METHOD:PUBLISH
CALSCALE:GREGORIAN
X-WR-TIMEZONE:Europe/Berlin
BEGIN:VTIMEZONE
TZID:Europe/Berlin
X-LIC-LOCATION:Europe/Berlin
BEGIN:DAYLIGHT
TZOFFSETFROM:+0100
TZOFFSETTO:+0200
TZNAME:CEST
DTSTART;TZID=Europe/Berlin:19700329T020000
RRULE:FREQ=YEARLY;INTERVAL=1;BYDAY=-1SU;BYMONTH=3
END:DAYLIGHT
BEGIN:STANDARD
TZOFFSETFROM:+0200
TZOFFSETTO:+0100
TZNAME:CET
DTSTART;TZID=Europe/Berlin:19701025T030000
RRULE:FREQ=YEARLY;INTERVAL=1;BYDAY=-1SU;BYMONTH=10
END:STANDARD
END:VTIMEZONE
BEGIN:VEVENT
DTSTAMP:20260419T171636
DTSTART;TZID=Europe/Berlin:20260310T193000
DTEND;TZID=Europe/Berlin:20260310T203000
UID:261SB430A-20260310T193000@STÄDTISCHE VOLKSHOCHSCHULE ABENSBERG UND NEUSTADT
SUMMARY:Hatha Yoga (261SB430A) 
LOCATION:Siegenburg, vhs-Studio 2, Marienplatz 7, 93354 Siegenburg
END:VEVENT
BEGIN:VEVENT
DTSTAMP:20260419T171636
DTSTART;TZID=Europe/Berlin:20260317T193000
DTEND;TZID=Europe/Berlin:20260317T203000
UID:261SB430A-20260317T193000@STÄDTISCHE VOLKSHOCHSCHULE ABENSBERG UND NEUSTADT
SUMMARY:Hatha Yoga (261SB430A) 
LOCATION:Siegenburg, vhs-Studio 2, Marienplatz 7, 93354 Siegenburg
END:VEVENT
BEGIN:VEVENT
DTSTAMP:20260419T171636
DTSTART;TZID=Europe/Berlin:20260324T193000
DTEND;TZID=Europe/Berlin:20260324T203000
UID:261SB430A-20260324T193000@STÄDTISCHE VOLKSHOCHSCHULE ABENSBERG UND NEUSTADT
SUMMARY:Hatha Yoga (261SB430A) 
LOCATION:Siegenburg, vhs-Studio 2, Marienplatz 7, 93354 Siegenburg
END:VEVENT
BEGIN:VEVENT
DTSTAMP:20260419T171636
DTSTART;TZID=Europe/Berlin:20260414T193000
DTEND;TZID=Europe/Berlin:20260414T203000
UID:261SB430A-20260414T193000@STÄDTISCHE VOLKSHOCHSCHULE ABENSBERG UND NEUSTADT
SUMMARY:Hatha Yoga (261SB430A) 
LOCATION:Siegenburg, vhs-Studio 2, Marienplatz 7, 93354 Siegenburg
END:VEVENT
BEGIN:VEVENT
DTSTAMP:20260419T171636
DTSTART;TZID=Europe/Berlin:20260428T193000
DTEND;TZID=Europe/Berlin:20260428T203000
UID:261SB430A-20260428T193000@STÄDTISCHE VOLKSHOCHSCHULE ABENSBERG UND NEUSTADT
SUMMARY:Hatha Yoga (261SB430A) 
LOCATION:Siegenburg, vhs-Studio 2, Marienplatz 7, 93354 Siegenburg
END:VEVENT
BEGIN:VEVENT
DTSTAMP:20260419T171636
DTSTART;TZID=Europe/Berlin:20260505T193000
DTEND;TZID=Europe/Berlin:20260505T203000
UID:261SB430A-20260505T193000@STÄDTISCHE VOLKSHOCHSCHULE ABENSBERG UND NEUSTADT
SUMMARY:Hatha Yoga (261SB430A) 
LOCATION:Siegenburg, vhs-Studio 2, Marienplatz 7, 93354 Siegenburg
END:VEVENT
BEGIN:VEVENT
DTSTAMP:20260419T171636
DTSTART;TZID=Europe/Berlin:20260512T193000
DTEND;TZID=Europe/Berlin:20260512T203000
UID:261SB430A-20260512T193000@STÄDTISCHE VOLKSHOCHSCHULE ABENSBERG UND NEUSTADT
SUMMARY:Hatha Yoga (261SB430A) 
LOCATION:Siegenburg, vhs-Studio 2, Marienplatz 7, 93354 Siegenburg
END:VEVENT
BEGIN:VEVENT
DTSTAMP:20260419T171636
DTSTART;TZID=Europe/Berlin:20260519T193000
DTEND;TZID=Europe/Berlin:20260519T203000
UID:261SB430A-20260519T193000@STÄDTISCHE VOLKSHOCHSCHULE ABENSBERG UND NEUSTADT
SUMMARY:Hatha Yoga (261SB430A) 
LOCATION:Siegenburg, vhs-Studio 2, Marienplatz 7, 93354 Siegenburg
END:VEVENT
END:VCALENDAR