BEGIN:VCALENDAR
VERSION:2.0
PRODID:http://www.kufer.de/kuferweb / DE
METHOD:PUBLISH
CALSCALE:GREGORIAN
X-WR-TIMEZONE:Europe/Berlin
BEGIN:VTIMEZONE
TZID:Europe/Berlin
X-LIC-LOCATION:Europe/Berlin
BEGIN:DAYLIGHT
TZOFFSETFROM:+0100
TZOFFSETTO:+0200
TZNAME:CEST
DTSTART;TZID=Europe/Berlin:19700329T020000
RRULE:FREQ=YEARLY;INTERVAL=1;BYDAY=-1SU;BYMONTH=3
END:DAYLIGHT
BEGIN:STANDARD
TZOFFSETFROM:+0200
TZOFFSETTO:+0100
TZNAME:CET
DTSTART;TZID=Europe/Berlin:19701025T030000
RRULE:FREQ=YEARLY;INTERVAL=1;BYDAY=-1SU;BYMONTH=10
END:STANDARD
END:VTIMEZONE
BEGIN:VEVENT
DTSTAMP:20260419T171721
DTSTART;TZID=Europe/Berlin:20260417T144500
DTEND;TZID=Europe/Berlin:20260417T153000
UID:261ND718B-20260417T144500@STÄDTISCHE VOLKSHOCHSCHULE ABENSBERG UND NEUSTADT
SUMMARY:Zumba® Kids Jr. von 4-6 Jahren (261ND718B) 
LOCATION:Neustadt, Alte Feuerwache, Gymnastikraum, Herrnstr. 16 , 93333 Neustadt an der Donau 
END:VEVENT
BEGIN:VEVENT
DTSTAMP:20260419T171721
DTSTART;TZID=Europe/Berlin:20260424T144500
DTEND;TZID=Europe/Berlin:20260424T153000
UID:261ND718B-20260424T144500@STÄDTISCHE VOLKSHOCHSCHULE ABENSBERG UND NEUSTADT
SUMMARY:Zumba® Kids Jr. von 4-6 Jahren (261ND718B) 
LOCATION:Neustadt, Alte Feuerwache, Gymnastikraum, Herrnstr. 16 , 93333 Neustadt an der Donau 
END:VEVENT
BEGIN:VEVENT
DTSTAMP:20260419T171721
DTSTART;TZID=Europe/Berlin:20260508T144500
DTEND;TZID=Europe/Berlin:20260508T153000
UID:261ND718B-20260508T144500@STÄDTISCHE VOLKSHOCHSCHULE ABENSBERG UND NEUSTADT
SUMMARY:Zumba® Kids Jr. von 4-6 Jahren (261ND718B) 
LOCATION:Neustadt, Alte Feuerwache, Gymnastikraum, Herrnstr. 16 , 93333 Neustadt an der Donau 
END:VEVENT
BEGIN:VEVENT
DTSTAMP:20260419T171721
DTSTART;TZID=Europe/Berlin:20260515T144500
DTEND;TZID=Europe/Berlin:20260515T153000
UID:261ND718B-20260515T144500@STÄDTISCHE VOLKSHOCHSCHULE ABENSBERG UND NEUSTADT
SUMMARY:Zumba® Kids Jr. von 4-6 Jahren (261ND718B) 
LOCATION:Neustadt, Alte Feuerwache, Gymnastikraum, Herrnstr. 16 , 93333 Neustadt an der Donau 
END:VEVENT
BEGIN:VEVENT
DTSTAMP:20260419T171721
DTSTART;TZID=Europe/Berlin:20260522T144500
DTEND;TZID=Europe/Berlin:20260522T153000
UID:261ND718B-20260522T144500@STÄDTISCHE VOLKSHOCHSCHULE ABENSBERG UND NEUSTADT
SUMMARY:Zumba® Kids Jr. von 4-6 Jahren (261ND718B) 
LOCATION:Neustadt, Alte Feuerwache, Gymnastikraum, Herrnstr. 16 , 93333 Neustadt an der Donau 
END:VEVENT
BEGIN:VEVENT
DTSTAMP:20260419T171721
DTSTART;TZID=Europe/Berlin:20260612T144500
DTEND;TZID=Europe/Berlin:20260612T153000
UID:261ND718B-20260612T144500@STÄDTISCHE VOLKSHOCHSCHULE ABENSBERG UND NEUSTADT
SUMMARY:Zumba® Kids Jr. von 4-6 Jahren (261ND718B) 
LOCATION:Neustadt, Alte Feuerwache, Gymnastikraum, Herrnstr. 16 , 93333 Neustadt an der Donau 
END:VEVENT
BEGIN:VEVENT
DTSTAMP:20260419T171721
DTSTART;TZID=Europe/Berlin:20260619T144500
DTEND;TZID=Europe/Berlin:20260619T153000
UID:261ND718B-20260619T144500@STÄDTISCHE VOLKSHOCHSCHULE ABENSBERG UND NEUSTADT
SUMMARY:Zumba® Kids Jr. von 4-6 Jahren (261ND718B) 
LOCATION:Neustadt, Alte Feuerwache, Gymnastikraum, Herrnstr. 16 , 93333 Neustadt an der Donau 
END:VEVENT
BEGIN:VEVENT
DTSTAMP:20260419T171721
DTSTART;TZID=Europe/Berlin:20260626T144500
DTEND;TZID=Europe/Berlin:20260626T153000
UID:261ND718B-20260626T144500@STÄDTISCHE VOLKSHOCHSCHULE ABENSBERG UND NEUSTADT
SUMMARY:Zumba® Kids Jr. von 4-6 Jahren (261ND718B) 
LOCATION:Neustadt, Alte Feuerwache, Gymnastikraum, Herrnstr. 16 , 93333 Neustadt an der Donau 
END:VEVENT
BEGIN:VEVENT
DTSTAMP:20260419T171721
DTSTART;TZID=Europe/Berlin:20260703T144500
DTEND;TZID=Europe/Berlin:20260703T153000
UID:261ND718B-20260703T144500@STÄDTISCHE VOLKSHOCHSCHULE ABENSBERG UND NEUSTADT
SUMMARY:Zumba® Kids Jr. von 4-6 Jahren (261ND718B) 
LOCATION:Neustadt, Alte Feuerwache, Gymnastikraum, Herrnstr. 16 , 93333 Neustadt an der Donau 
END:VEVENT
BEGIN:VEVENT
DTSTAMP:20260419T171721
DTSTART;TZID=Europe/Berlin:20260710T144500
DTEND;TZID=Europe/Berlin:20260710T153000
UID:261ND718B-20260710T144500@STÄDTISCHE VOLKSHOCHSCHULE ABENSBERG UND NEUSTADT
SUMMARY:Zumba® Kids Jr. von 4-6 Jahren (261ND718B) 
LOCATION:Neustadt, Alte Feuerwache, Gymnastikraum, Herrnstr. 16 , 93333 Neustadt an der Donau 
END:VEVENT
BEGIN:VEVENT
DTSTAMP:20260419T171721
DTSTART;TZID=Europe/Berlin:20260717T144500
DTEND;TZID=Europe/Berlin:20260717T153000
UID:261ND718B-20260717T144500@STÄDTISCHE VOLKSHOCHSCHULE ABENSBERG UND NEUSTADT
SUMMARY:Zumba® Kids Jr. von 4-6 Jahren (261ND718B) 
LOCATION:Neustadt, Alte Feuerwache, Gymnastikraum, Herrnstr. 16 , 93333 Neustadt an der Donau 
END:VEVENT
BEGIN:VEVENT
DTSTAMP:20260419T171721
DTSTART;TZID=Europe/Berlin:20260724T144500
DTEND;TZID=Europe/Berlin:20260724T153000
UID:261ND718B-20260724T144500@STÄDTISCHE VOLKSHOCHSCHULE ABENSBERG UND NEUSTADT
SUMMARY:Zumba® Kids Jr. von 4-6 Jahren (261ND718B) 
LOCATION:Neustadt, Alte Feuerwache, Gymnastikraum, Herrnstr. 16 , 93333 Neustadt an der Donau 
END:VEVENT
END:VCALENDAR