BEGIN:VCALENDAR
VERSION:2.0
PRODID:http://www.kufer.de/kuferweb / DE
METHOD:PUBLISH
CALSCALE:GREGORIAN
X-WR-TIMEZONE:Europe/Berlin
BEGIN:VTIMEZONE
TZID:Europe/Berlin
X-LIC-LOCATION:Europe/Berlin
BEGIN:DAYLIGHT
TZOFFSETFROM:+0100
TZOFFSETTO:+0200
TZNAME:CEST
DTSTART;TZID=Europe/Berlin:19700329T020000
RRULE:FREQ=YEARLY;INTERVAL=1;BYDAY=-1SU;BYMONTH=3
END:DAYLIGHT
BEGIN:STANDARD
TZOFFSETFROM:+0200
TZOFFSETTO:+0100
TZNAME:CET
DTSTART;TZID=Europe/Berlin:19701025T030000
RRULE:FREQ=YEARLY;INTERVAL=1;BYDAY=-1SU;BYMONTH=10
END:STANDARD
END:VTIMEZONE
BEGIN:VEVENT
DTSTAMP:20260420T184553
DTSTART;TZID=Europe/Berlin:20260610T150000
DTEND;TZID=Europe/Berlin:20260610T154500
UID:261ND714B-20260610T150000@STÄDTISCHE VOLKSHOCHSCHULE ABENSBERG UND NEUSTADT
SUMMARY:MU-SI-TA-KI von 4 bis 5 Jahren Erwachsener mit Kind (261ND714B) 
LOCATION:Neustadt, Kulturhaus Storchenwirt, Raum 2.3, Stadtplatz 13, 93333 Neustadt an der Donau
END:VEVENT
BEGIN:VEVENT
DTSTAMP:20260420T184553
DTSTART;TZID=Europe/Berlin:20260617T150000
DTEND;TZID=Europe/Berlin:20260617T154500
UID:261ND714B-20260617T150000@STÄDTISCHE VOLKSHOCHSCHULE ABENSBERG UND NEUSTADT
SUMMARY:MU-SI-TA-KI von 4 bis 5 Jahren Erwachsener mit Kind (261ND714B) 
LOCATION:Neustadt, Kulturhaus Storchenwirt, Raum 2.3, Stadtplatz 13, 93333 Neustadt an der Donau
END:VEVENT
BEGIN:VEVENT
DTSTAMP:20260420T184553
DTSTART;TZID=Europe/Berlin:20260624T150000
DTEND;TZID=Europe/Berlin:20260624T154500
UID:261ND714B-20260624T150000@STÄDTISCHE VOLKSHOCHSCHULE ABENSBERG UND NEUSTADT
SUMMARY:MU-SI-TA-KI von 4 bis 5 Jahren Erwachsener mit Kind (261ND714B) 
LOCATION:Neustadt, Kulturhaus Storchenwirt, Raum 2.3, Stadtplatz 13, 93333 Neustadt an der Donau
END:VEVENT
BEGIN:VEVENT
DTSTAMP:20260420T184553
DTSTART;TZID=Europe/Berlin:20260701T150000
DTEND;TZID=Europe/Berlin:20260701T154500
UID:261ND714B-20260701T150000@STÄDTISCHE VOLKSHOCHSCHULE ABENSBERG UND NEUSTADT
SUMMARY:MU-SI-TA-KI von 4 bis 5 Jahren Erwachsener mit Kind (261ND714B) 
LOCATION:Neustadt, Kulturhaus Storchenwirt, Raum 2.3, Stadtplatz 13, 93333 Neustadt an der Donau
END:VEVENT
BEGIN:VEVENT
DTSTAMP:20260420T184553
DTSTART;TZID=Europe/Berlin:20260708T150000
DTEND;TZID=Europe/Berlin:20260708T154500
UID:261ND714B-20260708T150000@STÄDTISCHE VOLKSHOCHSCHULE ABENSBERG UND NEUSTADT
SUMMARY:MU-SI-TA-KI von 4 bis 5 Jahren Erwachsener mit Kind (261ND714B) 
LOCATION:Neustadt, Kulturhaus Storchenwirt, Raum 2.3, Stadtplatz 13, 93333 Neustadt an der Donau
END:VEVENT
BEGIN:VEVENT
DTSTAMP:20260420T184553
DTSTART;TZID=Europe/Berlin:20260715T150000
DTEND;TZID=Europe/Berlin:20260715T154500
UID:261ND714B-20260715T150000@STÄDTISCHE VOLKSHOCHSCHULE ABENSBERG UND NEUSTADT
SUMMARY:MU-SI-TA-KI von 4 bis 5 Jahren Erwachsener mit Kind (261ND714B) 
LOCATION:Neustadt, Kulturhaus Storchenwirt, Raum 2.3, Stadtplatz 13, 93333 Neustadt an der Donau
END:VEVENT
BEGIN:VEVENT
DTSTAMP:20260420T184553
DTSTART;TZID=Europe/Berlin:20260722T150000
DTEND;TZID=Europe/Berlin:20260722T154500
UID:261ND714B-20260722T150000@STÄDTISCHE VOLKSHOCHSCHULE ABENSBERG UND NEUSTADT
SUMMARY:MU-SI-TA-KI von 4 bis 5 Jahren Erwachsener mit Kind (261ND714B) 
LOCATION:Neustadt, Kulturhaus Storchenwirt, Raum 2.3, Stadtplatz 13, 93333 Neustadt an der Donau
END:VEVENT
BEGIN:VEVENT
DTSTAMP:20260420T184553
DTSTART;TZID=Europe/Berlin:20260729T150000
DTEND;TZID=Europe/Berlin:20260729T154500
UID:261ND714B-20260729T150000@STÄDTISCHE VOLKSHOCHSCHULE ABENSBERG UND NEUSTADT
SUMMARY:MU-SI-TA-KI von 4 bis 5 Jahren Erwachsener mit Kind (261ND714B) 
LOCATION:Neustadt, Kulturhaus Storchenwirt, Raum 2.3, Stadtplatz 13, 93333 Neustadt an der Donau
END:VEVENT
END:VCALENDAR