BEGIN:VCALENDAR
VERSION:2.0
PRODID:http://www.kufer.de/kuferweb / DE
METHOD:PUBLISH
CALSCALE:GREGORIAN
X-WR-TIMEZONE:Europe/Berlin
BEGIN:VTIMEZONE
TZID:Europe/Berlin
X-LIC-LOCATION:Europe/Berlin
BEGIN:DAYLIGHT
TZOFFSETFROM:+0100
TZOFFSETTO:+0200
TZNAME:CEST
DTSTART;TZID=Europe/Berlin:19700329T020000
RRULE:FREQ=YEARLY;INTERVAL=1;BYDAY=-1SU;BYMONTH=3
END:DAYLIGHT
BEGIN:STANDARD
TZOFFSETFROM:+0200
TZOFFSETTO:+0100
TZNAME:CET
DTSTART;TZID=Europe/Berlin:19701025T030000
RRULE:FREQ=YEARLY;INTERVAL=1;BYDAY=-1SU;BYMONTH=10
END:STANDARD
END:VTIMEZONE
BEGIN:VEVENT
DTSTAMP:20260420T051514
DTSTART;TZID=Europe/Berlin:20260610T160000
DTEND;TZID=Europe/Berlin:20260610T164500
UID:261ND713B-20260610T160000@STÄDTISCHE VOLKSHOCHSCHULE ABENSBERG UND NEUSTADT
SUMMARY:Musikzwerge von 1 bis 3 Jahren (261ND713B) 
LOCATION:Neustadt, Kulturhaus Storchenwirt, Raum 2.3, Stadtplatz 13, 93333 Neustadt an der Donau
END:VEVENT
BEGIN:VEVENT
DTSTAMP:20260420T051514
DTSTART;TZID=Europe/Berlin:20260617T160000
DTEND;TZID=Europe/Berlin:20260617T164500
UID:261ND713B-20260617T160000@STÄDTISCHE VOLKSHOCHSCHULE ABENSBERG UND NEUSTADT
SUMMARY:Musikzwerge von 1 bis 3 Jahren (261ND713B) 
LOCATION:Neustadt, Kulturhaus Storchenwirt, Raum 2.3, Stadtplatz 13, 93333 Neustadt an der Donau
END:VEVENT
BEGIN:VEVENT
DTSTAMP:20260420T051514
DTSTART;TZID=Europe/Berlin:20260624T160000
DTEND;TZID=Europe/Berlin:20260624T164500
UID:261ND713B-20260624T160000@STÄDTISCHE VOLKSHOCHSCHULE ABENSBERG UND NEUSTADT
SUMMARY:Musikzwerge von 1 bis 3 Jahren (261ND713B) 
LOCATION:Neustadt, Kulturhaus Storchenwirt, Raum 2.3, Stadtplatz 13, 93333 Neustadt an der Donau
END:VEVENT
BEGIN:VEVENT
DTSTAMP:20260420T051514
DTSTART;TZID=Europe/Berlin:20260701T160000
DTEND;TZID=Europe/Berlin:20260701T164500
UID:261ND713B-20260701T160000@STÄDTISCHE VOLKSHOCHSCHULE ABENSBERG UND NEUSTADT
SUMMARY:Musikzwerge von 1 bis 3 Jahren (261ND713B) 
LOCATION:Neustadt, Kulturhaus Storchenwirt, Raum 2.3, Stadtplatz 13, 93333 Neustadt an der Donau
END:VEVENT
BEGIN:VEVENT
DTSTAMP:20260420T051514
DTSTART;TZID=Europe/Berlin:20260708T160000
DTEND;TZID=Europe/Berlin:20260708T164500
UID:261ND713B-20260708T160000@STÄDTISCHE VOLKSHOCHSCHULE ABENSBERG UND NEUSTADT
SUMMARY:Musikzwerge von 1 bis 3 Jahren (261ND713B) 
LOCATION:Neustadt, Kulturhaus Storchenwirt, Raum 2.3, Stadtplatz 13, 93333 Neustadt an der Donau
END:VEVENT
BEGIN:VEVENT
DTSTAMP:20260420T051514
DTSTART;TZID=Europe/Berlin:20260715T160000
DTEND;TZID=Europe/Berlin:20260715T164500
UID:261ND713B-20260715T160000@STÄDTISCHE VOLKSHOCHSCHULE ABENSBERG UND NEUSTADT
SUMMARY:Musikzwerge von 1 bis 3 Jahren (261ND713B) 
LOCATION:Neustadt, Kulturhaus Storchenwirt, Raum 2.3, Stadtplatz 13, 93333 Neustadt an der Donau
END:VEVENT
BEGIN:VEVENT
DTSTAMP:20260420T051514
DTSTART;TZID=Europe/Berlin:20260722T160000
DTEND;TZID=Europe/Berlin:20260722T164500
UID:261ND713B-20260722T160000@STÄDTISCHE VOLKSHOCHSCHULE ABENSBERG UND NEUSTADT
SUMMARY:Musikzwerge von 1 bis 3 Jahren (261ND713B) 
LOCATION:Neustadt, Kulturhaus Storchenwirt, Raum 2.3, Stadtplatz 13, 93333 Neustadt an der Donau
END:VEVENT
BEGIN:VEVENT
DTSTAMP:20260420T051514
DTSTART;TZID=Europe/Berlin:20260729T160000
DTEND;TZID=Europe/Berlin:20260729T164500
UID:261ND713B-20260729T160000@STÄDTISCHE VOLKSHOCHSCHULE ABENSBERG UND NEUSTADT
SUMMARY:Musikzwerge von 1 bis 3 Jahren (261ND713B) 
LOCATION:Neustadt, Kulturhaus Storchenwirt, Raum 2.3, Stadtplatz 13, 93333 Neustadt an der Donau
END:VEVENT
END:VCALENDAR