BEGIN:VCALENDAR
VERSION:2.0
PRODID:http://www.kufer.de/kuferweb / DE
METHOD:PUBLISH
CALSCALE:GREGORIAN
X-WR-TIMEZONE:Europe/Berlin
BEGIN:VTIMEZONE
TZID:Europe/Berlin
X-LIC-LOCATION:Europe/Berlin
BEGIN:DAYLIGHT
TZOFFSETFROM:+0100
TZOFFSETTO:+0200
TZNAME:CEST
DTSTART;TZID=Europe/Berlin:19700329T020000
RRULE:FREQ=YEARLY;INTERVAL=1;BYDAY=-1SU;BYMONTH=3
END:DAYLIGHT
BEGIN:STANDARD
TZOFFSETFROM:+0200
TZOFFSETTO:+0100
TZNAME:CET
DTSTART;TZID=Europe/Berlin:19701025T030000
RRULE:FREQ=YEARLY;INTERVAL=1;BYDAY=-1SU;BYMONTH=10
END:STANDARD
END:VTIMEZONE
BEGIN:VEVENT
DTSTAMP:20260419T171621
DTSTART;TZID=Europe/Berlin:20260314T093000
DTEND;TZID=Europe/Berlin:20260314T103000
UID:261ND605A-20260314T093000@STÄDTISCHE VOLKSHOCHSCHULE ABENSBERG UND NEUSTADT
SUMMARY:Lerngruppe: Mathe Quali, 9. Klasse (261ND605A) 
LOCATION:Neustadt, Kulturhaus Storchenwirt, Raum 1.1, Stadtplatz 13, 93333 Neustadt an der Donau 
END:VEVENT
BEGIN:VEVENT
DTSTAMP:20260419T171621
DTSTART;TZID=Europe/Berlin:20260321T093000
DTEND;TZID=Europe/Berlin:20260321T103000
UID:261ND605A-20260321T093000@STÄDTISCHE VOLKSHOCHSCHULE ABENSBERG UND NEUSTADT
SUMMARY:Lerngruppe: Mathe Quali, 9. Klasse (261ND605A) 
LOCATION:Neustadt, Kulturhaus Storchenwirt, Raum 1.1, Stadtplatz 13, 93333 Neustadt an der Donau 
END:VEVENT
BEGIN:VEVENT
DTSTAMP:20260419T171621
DTSTART;TZID=Europe/Berlin:20260418T093000
DTEND;TZID=Europe/Berlin:20260418T103000
UID:261ND605A-20260418T093000@STÄDTISCHE VOLKSHOCHSCHULE ABENSBERG UND NEUSTADT
SUMMARY:Lerngruppe: Mathe Quali, 9. Klasse (261ND605A) 
LOCATION:Neustadt, Kulturhaus Storchenwirt, Raum 1.1, Stadtplatz 13, 93333 Neustadt an der Donau 
END:VEVENT
BEGIN:VEVENT
DTSTAMP:20260419T171621
DTSTART;TZID=Europe/Berlin:20260425T093000
DTEND;TZID=Europe/Berlin:20260425T103000
UID:261ND605A-20260425T093000@STÄDTISCHE VOLKSHOCHSCHULE ABENSBERG UND NEUSTADT
SUMMARY:Lerngruppe: Mathe Quali, 9. Klasse (261ND605A) 
LOCATION:Neustadt, Kulturhaus Storchenwirt, Raum 1.1, Stadtplatz 13, 93333 Neustadt an der Donau 
END:VEVENT
BEGIN:VEVENT
DTSTAMP:20260419T171621
DTSTART;TZID=Europe/Berlin:20260502T093000
DTEND;TZID=Europe/Berlin:20260502T103000
UID:261ND605A-20260502T093000@STÄDTISCHE VOLKSHOCHSCHULE ABENSBERG UND NEUSTADT
SUMMARY:Lerngruppe: Mathe Quali, 9. Klasse (261ND605A) 
LOCATION:Neustadt, Kulturhaus Storchenwirt, Raum 1.1, Stadtplatz 13, 93333 Neustadt an der Donau 
END:VEVENT
END:VCALENDAR