BEGIN:VCALENDAR
VERSION:2.0
PRODID:http://www.kufer.de/kuferweb / DE
METHOD:PUBLISH
CALSCALE:GREGORIAN
X-WR-TIMEZONE:Europe/Berlin
BEGIN:VTIMEZONE
TZID:Europe/Berlin
X-LIC-LOCATION:Europe/Berlin
BEGIN:DAYLIGHT
TZOFFSETFROM:+0100
TZOFFSETTO:+0200
TZNAME:CEST
DTSTART;TZID=Europe/Berlin:19700329T020000
RRULE:FREQ=YEARLY;INTERVAL=1;BYDAY=-1SU;BYMONTH=3
END:DAYLIGHT
BEGIN:STANDARD
TZOFFSETFROM:+0200
TZOFFSETTO:+0100
TZNAME:CET
DTSTART;TZID=Europe/Berlin:19701025T030000
RRULE:FREQ=YEARLY;INTERVAL=1;BYDAY=-1SU;BYMONTH=10
END:STANDARD
END:VTIMEZONE
BEGIN:VEVENT
DTSTAMP:20260422T134626
DTSTART;TZID=Europe/Berlin:20260610T183000
DTEND;TZID=Europe/Berlin:20260610T193000
UID:261ND441B-20260610T183000@STÄDTISCHE VOLKSHOCHSCHULE ABENSBERG UND NEUSTADT
SUMMARY:Body-Workout für Alle (261ND441B) 
LOCATION:Neustadt, Alte Feuerwache, Gymnastikraum, Herrnstr. 16 , 93333 Neustadt an der Donau 
END:VEVENT
BEGIN:VEVENT
DTSTAMP:20260422T134626
DTSTART;TZID=Europe/Berlin:20260617T183000
DTEND;TZID=Europe/Berlin:20260617T193000
UID:261ND441B-20260617T183000@STÄDTISCHE VOLKSHOCHSCHULE ABENSBERG UND NEUSTADT
SUMMARY:Body-Workout für Alle (261ND441B) 
LOCATION:Neustadt, Alte Feuerwache, Gymnastikraum, Herrnstr. 16 , 93333 Neustadt an der Donau 
END:VEVENT
BEGIN:VEVENT
DTSTAMP:20260422T134626
DTSTART;TZID=Europe/Berlin:20260624T183000
DTEND;TZID=Europe/Berlin:20260624T193000
UID:261ND441B-20260624T183000@STÄDTISCHE VOLKSHOCHSCHULE ABENSBERG UND NEUSTADT
SUMMARY:Body-Workout für Alle (261ND441B) 
LOCATION:Neustadt, Alte Feuerwache, Gymnastikraum, Herrnstr. 16 , 93333 Neustadt an der Donau 
END:VEVENT
BEGIN:VEVENT
DTSTAMP:20260422T134626
DTSTART;TZID=Europe/Berlin:20260701T183000
DTEND;TZID=Europe/Berlin:20260701T193000
UID:261ND441B-20260701T183000@STÄDTISCHE VOLKSHOCHSCHULE ABENSBERG UND NEUSTADT
SUMMARY:Body-Workout für Alle (261ND441B) 
LOCATION:Neustadt, Alte Feuerwache, Gymnastikraum, Herrnstr. 16 , 93333 Neustadt an der Donau 
END:VEVENT
BEGIN:VEVENT
DTSTAMP:20260422T134626
DTSTART;TZID=Europe/Berlin:20260708T183000
DTEND;TZID=Europe/Berlin:20260708T193000
UID:261ND441B-20260708T183000@STÄDTISCHE VOLKSHOCHSCHULE ABENSBERG UND NEUSTADT
SUMMARY:Body-Workout für Alle (261ND441B) 
LOCATION:Neustadt, Alte Feuerwache, Gymnastikraum, Herrnstr. 16 , 93333 Neustadt an der Donau 
END:VEVENT
BEGIN:VEVENT
DTSTAMP:20260422T134626
DTSTART;TZID=Europe/Berlin:20260715T183000
DTEND;TZID=Europe/Berlin:20260715T193000
UID:261ND441B-20260715T183000@STÄDTISCHE VOLKSHOCHSCHULE ABENSBERG UND NEUSTADT
SUMMARY:Body-Workout für Alle (261ND441B) 
LOCATION:Neustadt, Alte Feuerwache, Gymnastikraum, Herrnstr. 16 , 93333 Neustadt an der Donau 
END:VEVENT
BEGIN:VEVENT
DTSTAMP:20260422T134626
DTSTART;TZID=Europe/Berlin:20260722T183000
DTEND;TZID=Europe/Berlin:20260722T193000
UID:261ND441B-20260722T183000@STÄDTISCHE VOLKSHOCHSCHULE ABENSBERG UND NEUSTADT
SUMMARY:Body-Workout für Alle (261ND441B) 
LOCATION:Neustadt, Alte Feuerwache, Gymnastikraum, Herrnstr. 16 , 93333 Neustadt an der Donau 
END:VEVENT
BEGIN:VEVENT
DTSTAMP:20260422T134626
DTSTART;TZID=Europe/Berlin:20260729T183000
DTEND;TZID=Europe/Berlin:20260729T193000
UID:261ND441B-20260729T183000@STÄDTISCHE VOLKSHOCHSCHULE ABENSBERG UND NEUSTADT
SUMMARY:Body-Workout für Alle (261ND441B) 
LOCATION:Neustadt, Alte Feuerwache, Gymnastikraum, Herrnstr. 16 , 93333 Neustadt an der Donau 
END:VEVENT
END:VCALENDAR