BEGIN:VCALENDAR
VERSION:2.0
PRODID:http://www.kufer.de/kuferweb / DE
METHOD:PUBLISH
CALSCALE:GREGORIAN
X-WR-TIMEZONE:Europe/Berlin
BEGIN:VTIMEZONE
TZID:Europe/Berlin
X-LIC-LOCATION:Europe/Berlin
BEGIN:DAYLIGHT
TZOFFSETFROM:+0100
TZOFFSETTO:+0200
TZNAME:CEST
DTSTART;TZID=Europe/Berlin:19700329T020000
RRULE:FREQ=YEARLY;INTERVAL=1;BYDAY=-1SU;BYMONTH=3
END:DAYLIGHT
BEGIN:STANDARD
TZOFFSETFROM:+0200
TZOFFSETTO:+0100
TZNAME:CET
DTSTART;TZID=Europe/Berlin:19701025T030000
RRULE:FREQ=YEARLY;INTERVAL=1;BYDAY=-1SU;BYMONTH=10
END:STANDARD
END:VTIMEZONE
BEGIN:VEVENT
DTSTAMP:20260421T095757
DTSTART;TZID=Europe/Berlin:20260417T180000
DTEND;TZID=Europe/Berlin:20260417T193000
UID:261ND438A-20260417T180000@STÄDTISCHE VOLKSHOCHSCHULE ABENSBERG UND NEUSTADT
SUMMARY:Bodyform für Frauen und Männer (261ND438A) 
LOCATION:Neustadt, TSV-Neustadt, Sporthalle, Sportpark 1 , 93333 Neustadt an der Donau 
END:VEVENT
BEGIN:VEVENT
DTSTAMP:20260421T095757
DTSTART;TZID=Europe/Berlin:20260424T180000
DTEND;TZID=Europe/Berlin:20260424T193000
UID:261ND438A-20260424T180000@STÄDTISCHE VOLKSHOCHSCHULE ABENSBERG UND NEUSTADT
SUMMARY:Bodyform für Frauen und Männer (261ND438A) 
LOCATION:Neustadt, TSV-Neustadt, Sporthalle, Sportpark 1 , 93333 Neustadt an der Donau 
END:VEVENT
BEGIN:VEVENT
DTSTAMP:20260421T095757
DTSTART;TZID=Europe/Berlin:20260508T180000
DTEND;TZID=Europe/Berlin:20260508T193000
UID:261ND438A-20260508T180000@STÄDTISCHE VOLKSHOCHSCHULE ABENSBERG UND NEUSTADT
SUMMARY:Bodyform für Frauen und Männer (261ND438A) 
LOCATION:Neustadt, TSV-Neustadt, Sporthalle, Sportpark 1 , 93333 Neustadt an der Donau 
END:VEVENT
BEGIN:VEVENT
DTSTAMP:20260421T095757
DTSTART;TZID=Europe/Berlin:20260515T180000
DTEND;TZID=Europe/Berlin:20260515T193000
UID:261ND438A-20260515T180000@STÄDTISCHE VOLKSHOCHSCHULE ABENSBERG UND NEUSTADT
SUMMARY:Bodyform für Frauen und Männer (261ND438A) 
LOCATION:Neustadt, TSV-Neustadt, Sporthalle, Sportpark 1 , 93333 Neustadt an der Donau 
END:VEVENT
BEGIN:VEVENT
DTSTAMP:20260421T095757
DTSTART;TZID=Europe/Berlin:20260522T180000
DTEND;TZID=Europe/Berlin:20260522T193000
UID:261ND438A-20260522T180000@STÄDTISCHE VOLKSHOCHSCHULE ABENSBERG UND NEUSTADT
SUMMARY:Bodyform für Frauen und Männer (261ND438A) 
LOCATION:Neustadt, TSV-Neustadt, Sporthalle, Sportpark 1 , 93333 Neustadt an der Donau 
END:VEVENT
BEGIN:VEVENT
DTSTAMP:20260421T095757
DTSTART;TZID=Europe/Berlin:20260612T180000
DTEND;TZID=Europe/Berlin:20260612T193000
UID:261ND438A-20260612T180000@STÄDTISCHE VOLKSHOCHSCHULE ABENSBERG UND NEUSTADT
SUMMARY:Bodyform für Frauen und Männer (261ND438A) 
LOCATION:Neustadt, TSV-Neustadt, Sporthalle, Sportpark 1 , 93333 Neustadt an der Donau 
END:VEVENT
BEGIN:VEVENT
DTSTAMP:20260421T095757
DTSTART;TZID=Europe/Berlin:20260619T180000
DTEND;TZID=Europe/Berlin:20260619T193000
UID:261ND438A-20260619T180000@STÄDTISCHE VOLKSHOCHSCHULE ABENSBERG UND NEUSTADT
SUMMARY:Bodyform für Frauen und Männer (261ND438A) 
LOCATION:Neustadt, TSV-Neustadt, Sporthalle, Sportpark 1 , 93333 Neustadt an der Donau 
END:VEVENT
BEGIN:VEVENT
DTSTAMP:20260421T095757
DTSTART;TZID=Europe/Berlin:20260626T180000
DTEND;TZID=Europe/Berlin:20260626T193000
UID:261ND438A-20260626T180000@STÄDTISCHE VOLKSHOCHSCHULE ABENSBERG UND NEUSTADT
SUMMARY:Bodyform für Frauen und Männer (261ND438A) 
LOCATION:Neustadt, TSV-Neustadt, Sporthalle, Sportpark 1 , 93333 Neustadt an der Donau 
END:VEVENT
BEGIN:VEVENT
DTSTAMP:20260421T095757
DTSTART;TZID=Europe/Berlin:20260703T180000
DTEND;TZID=Europe/Berlin:20260703T193000
UID:261ND438A-20260703T180000@STÄDTISCHE VOLKSHOCHSCHULE ABENSBERG UND NEUSTADT
SUMMARY:Bodyform für Frauen und Männer (261ND438A) 
LOCATION:Neustadt, TSV-Neustadt, Sporthalle, Sportpark 1 , 93333 Neustadt an der Donau 
END:VEVENT
BEGIN:VEVENT
DTSTAMP:20260421T095757
DTSTART;TZID=Europe/Berlin:20260717T180000
DTEND;TZID=Europe/Berlin:20260717T193000
UID:261ND438A-20260717T180000@STÄDTISCHE VOLKSHOCHSCHULE ABENSBERG UND NEUSTADT
SUMMARY:Bodyform für Frauen und Männer (261ND438A) 
LOCATION:Neustadt, TSV-Neustadt, Sporthalle, Sportpark 1 , 93333 Neustadt an der Donau 
END:VEVENT
BEGIN:VEVENT
DTSTAMP:20260421T095757
DTSTART;TZID=Europe/Berlin:20260724T180000
DTEND;TZID=Europe/Berlin:20260724T193000
UID:261ND438A-20260724T180000@STÄDTISCHE VOLKSHOCHSCHULE ABENSBERG UND NEUSTADT
SUMMARY:Bodyform für Frauen und Männer (261ND438A) 
LOCATION:Neustadt, TSV-Neustadt, Sporthalle, Sportpark 1 , 93333 Neustadt an der Donau 
END:VEVENT
BEGIN:VEVENT
DTSTAMP:20260421T095757
DTSTART;TZID=Europe/Berlin:20260731T180000
DTEND;TZID=Europe/Berlin:20260731T193000
UID:261ND438A-20260731T180000@STÄDTISCHE VOLKSHOCHSCHULE ABENSBERG UND NEUSTADT
SUMMARY:Bodyform für Frauen und Männer (261ND438A) 
LOCATION:Neustadt, TSV-Neustadt, Sporthalle, Sportpark 1 , 93333 Neustadt an der Donau 
END:VEVENT
END:VCALENDAR