BEGIN:VCALENDAR
VERSION:2.0
PRODID:http://www.kufer.de/kuferweb / DE
METHOD:PUBLISH
CALSCALE:GREGORIAN
X-WR-TIMEZONE:Europe/Berlin
BEGIN:VTIMEZONE
TZID:Europe/Berlin
X-LIC-LOCATION:Europe/Berlin
BEGIN:DAYLIGHT
TZOFFSETFROM:+0100
TZOFFSETTO:+0200
TZNAME:CEST
DTSTART;TZID=Europe/Berlin:19700329T020000
RRULE:FREQ=YEARLY;INTERVAL=1;BYDAY=-1SU;BYMONTH=3
END:DAYLIGHT
BEGIN:STANDARD
TZOFFSETFROM:+0200
TZOFFSETTO:+0100
TZNAME:CET
DTSTART;TZID=Europe/Berlin:19701025T030000
RRULE:FREQ=YEARLY;INTERVAL=1;BYDAY=-1SU;BYMONTH=10
END:STANDARD
END:VTIMEZONE
BEGIN:VEVENT
DTSTAMP:20260420T154033
DTSTART;TZID=Europe/Berlin:20260306T184500
DTEND;TZID=Europe/Berlin:20260306T194500
UID:261ND427A-20260306T184500@STÄDTISCHE VOLKSHOCHSCHULE ABENSBERG UND NEUSTADT
SUMMARY:Bauch Beine Po Training (261ND427A) 
LOCATION:Neustadt, Alte Feuerwache, Gymnastikraum, Herrnstr. 16 , 93333 Neustadt an der Donau 
END:VEVENT
BEGIN:VEVENT
DTSTAMP:20260420T154033
DTSTART;TZID=Europe/Berlin:20260313T184500
DTEND;TZID=Europe/Berlin:20260313T194500
UID:261ND427A-20260313T184500@STÄDTISCHE VOLKSHOCHSCHULE ABENSBERG UND NEUSTADT
SUMMARY:Bauch Beine Po Training (261ND427A) 
LOCATION:Neustadt, Alte Feuerwache, Gymnastikraum, Herrnstr. 16 , 93333 Neustadt an der Donau 
END:VEVENT
BEGIN:VEVENT
DTSTAMP:20260420T154033
DTSTART;TZID=Europe/Berlin:20260320T184500
DTEND;TZID=Europe/Berlin:20260320T194500
UID:261ND427A-20260320T184500@STÄDTISCHE VOLKSHOCHSCHULE ABENSBERG UND NEUSTADT
SUMMARY:Bauch Beine Po Training (261ND427A) 
LOCATION:Neustadt, Alte Feuerwache, Gymnastikraum, Herrnstr. 16 , 93333 Neustadt an der Donau 
END:VEVENT
BEGIN:VEVENT
DTSTAMP:20260420T154033
DTSTART;TZID=Europe/Berlin:20260327T184500
DTEND;TZID=Europe/Berlin:20260327T194500
UID:261ND427A-20260327T184500@STÄDTISCHE VOLKSHOCHSCHULE ABENSBERG UND NEUSTADT
SUMMARY:Bauch Beine Po Training (261ND427A) 
LOCATION:Neustadt, Alte Feuerwache, Gymnastikraum, Herrnstr. 16 , 93333 Neustadt an der Donau 
END:VEVENT
BEGIN:VEVENT
DTSTAMP:20260420T154033
DTSTART;TZID=Europe/Berlin:20260417T184500
DTEND;TZID=Europe/Berlin:20260417T194500
UID:261ND427A-20260417T184500@STÄDTISCHE VOLKSHOCHSCHULE ABENSBERG UND NEUSTADT
SUMMARY:Bauch Beine Po Training (261ND427A) 
LOCATION:Neustadt, Alte Feuerwache, Gymnastikraum, Herrnstr. 16 , 93333 Neustadt an der Donau 
END:VEVENT
BEGIN:VEVENT
DTSTAMP:20260420T154033
DTSTART;TZID=Europe/Berlin:20260424T184500
DTEND;TZID=Europe/Berlin:20260424T194500
UID:261ND427A-20260424T184500@STÄDTISCHE VOLKSHOCHSCHULE ABENSBERG UND NEUSTADT
SUMMARY:Bauch Beine Po Training (261ND427A) 
LOCATION:Neustadt, Alte Feuerwache, Gymnastikraum, Herrnstr. 16 , 93333 Neustadt an der Donau 
END:VEVENT
BEGIN:VEVENT
DTSTAMP:20260420T154033
DTSTART;TZID=Europe/Berlin:20260508T184500
DTEND;TZID=Europe/Berlin:20260508T194500
UID:261ND427A-20260508T184500@STÄDTISCHE VOLKSHOCHSCHULE ABENSBERG UND NEUSTADT
SUMMARY:Bauch Beine Po Training (261ND427A) 
LOCATION:Neustadt, Alte Feuerwache, Gymnastikraum, Herrnstr. 16 , 93333 Neustadt an der Donau 
END:VEVENT
BEGIN:VEVENT
DTSTAMP:20260420T154033
DTSTART;TZID=Europe/Berlin:20260515T184500
DTEND;TZID=Europe/Berlin:20260515T194500
UID:261ND427A-20260515T184500@STÄDTISCHE VOLKSHOCHSCHULE ABENSBERG UND NEUSTADT
SUMMARY:Bauch Beine Po Training (261ND427A) 
LOCATION:Neustadt, Alte Feuerwache, Gymnastikraum, Herrnstr. 16 , 93333 Neustadt an der Donau 
END:VEVENT
BEGIN:VEVENT
DTSTAMP:20260420T154033
DTSTART;TZID=Europe/Berlin:20260522T184500
DTEND;TZID=Europe/Berlin:20260522T194500
UID:261ND427A-20260522T184500@STÄDTISCHE VOLKSHOCHSCHULE ABENSBERG UND NEUSTADT
SUMMARY:Bauch Beine Po Training (261ND427A) 
LOCATION:Neustadt, Alte Feuerwache, Gymnastikraum, Herrnstr. 16 , 93333 Neustadt an der Donau 
END:VEVENT
END:VCALENDAR