BEGIN:VCALENDAR
VERSION:2.0
PRODID:http://www.kufer.de/kuferweb / DE
METHOD:PUBLISH
CALSCALE:GREGORIAN
X-WR-TIMEZONE:Europe/Berlin
BEGIN:VTIMEZONE
TZID:Europe/Berlin
X-LIC-LOCATION:Europe/Berlin
BEGIN:DAYLIGHT
TZOFFSETFROM:+0100
TZOFFSETTO:+0200
TZNAME:CEST
DTSTART;TZID=Europe/Berlin:19700329T020000
RRULE:FREQ=YEARLY;INTERVAL=1;BYDAY=-1SU;BYMONTH=3
END:DAYLIGHT
BEGIN:STANDARD
TZOFFSETFROM:+0200
TZOFFSETTO:+0100
TZNAME:CET
DTSTART;TZID=Europe/Berlin:19701025T030000
RRULE:FREQ=YEARLY;INTERVAL=1;BYDAY=-1SU;BYMONTH=10
END:STANDARD
END:VTIMEZONE
BEGIN:VEVENT
DTSTAMP:20260420T151723
DTSTART;TZID=Europe/Berlin:20260608T101500
DTEND;TZID=Europe/Berlin:20260608T111500
UID:261ND426B-20260608T101500@STÄDTISCHE VOLKSHOCHSCHULE ABENSBERG UND NEUSTADT
SUMMARY:Bewegung im Alter am Vormittag (261ND426B) 
LOCATION:Neustadt, Kulturhaus Storchenwirt, Raum 3.2, Stadtplatz 13 , 93333 Neustadt an der Donau 
END:VEVENT
BEGIN:VEVENT
DTSTAMP:20260420T151723
DTSTART;TZID=Europe/Berlin:20260615T101500
DTEND;TZID=Europe/Berlin:20260615T111500
UID:261ND426B-20260615T101500@STÄDTISCHE VOLKSHOCHSCHULE ABENSBERG UND NEUSTADT
SUMMARY:Bewegung im Alter am Vormittag (261ND426B) 
LOCATION:Neustadt, Kulturhaus Storchenwirt, Raum 3.2, Stadtplatz 13 , 93333 Neustadt an der Donau 
END:VEVENT
BEGIN:VEVENT
DTSTAMP:20260420T151723
DTSTART;TZID=Europe/Berlin:20260622T101500
DTEND;TZID=Europe/Berlin:20260622T111500
UID:261ND426B-20260622T101500@STÄDTISCHE VOLKSHOCHSCHULE ABENSBERG UND NEUSTADT
SUMMARY:Bewegung im Alter am Vormittag (261ND426B) 
LOCATION:Neustadt, Kulturhaus Storchenwirt, Raum 3.2, Stadtplatz 13 , 93333 Neustadt an der Donau 
END:VEVENT
BEGIN:VEVENT
DTSTAMP:20260420T151723
DTSTART;TZID=Europe/Berlin:20260629T101500
DTEND;TZID=Europe/Berlin:20260629T111500
UID:261ND426B-20260629T101500@STÄDTISCHE VOLKSHOCHSCHULE ABENSBERG UND NEUSTADT
SUMMARY:Bewegung im Alter am Vormittag (261ND426B) 
LOCATION:Neustadt, Kulturhaus Storchenwirt, Raum 3.2, Stadtplatz 13 , 93333 Neustadt an der Donau 
END:VEVENT
BEGIN:VEVENT
DTSTAMP:20260420T151723
DTSTART;TZID=Europe/Berlin:20260706T101500
DTEND;TZID=Europe/Berlin:20260706T111500
UID:261ND426B-20260706T101500@STÄDTISCHE VOLKSHOCHSCHULE ABENSBERG UND NEUSTADT
SUMMARY:Bewegung im Alter am Vormittag (261ND426B) 
LOCATION:Neustadt, Kulturhaus Storchenwirt, Raum 3.2, Stadtplatz 13 , 93333 Neustadt an der Donau 
END:VEVENT
BEGIN:VEVENT
DTSTAMP:20260420T151723
DTSTART;TZID=Europe/Berlin:20260713T101500
DTEND;TZID=Europe/Berlin:20260713T111500
UID:261ND426B-20260713T101500@STÄDTISCHE VOLKSHOCHSCHULE ABENSBERG UND NEUSTADT
SUMMARY:Bewegung im Alter am Vormittag (261ND426B) 
LOCATION:Neustadt, Kulturhaus Storchenwirt, Raum 3.2, Stadtplatz 13 , 93333 Neustadt an der Donau 
END:VEVENT
BEGIN:VEVENT
DTSTAMP:20260420T151723
DTSTART;TZID=Europe/Berlin:20260720T101500
DTEND;TZID=Europe/Berlin:20260720T111500
UID:261ND426B-20260720T101500@STÄDTISCHE VOLKSHOCHSCHULE ABENSBERG UND NEUSTADT
SUMMARY:Bewegung im Alter am Vormittag (261ND426B) 
LOCATION:Neustadt, Kulturhaus Storchenwirt, Raum 3.2, Stadtplatz 13 , 93333 Neustadt an der Donau 
END:VEVENT
BEGIN:VEVENT
DTSTAMP:20260420T151723
DTSTART;TZID=Europe/Berlin:20260727T101500
DTEND;TZID=Europe/Berlin:20260727T111500
UID:261ND426B-20260727T101500@STÄDTISCHE VOLKSHOCHSCHULE ABENSBERG UND NEUSTADT
SUMMARY:Bewegung im Alter am Vormittag (261ND426B) 
LOCATION:Neustadt, Kulturhaus Storchenwirt, Raum 3.2, Stadtplatz 13 , 93333 Neustadt an der Donau 
END:VEVENT
END:VCALENDAR