BEGIN:VCALENDAR
VERSION:2.0
PRODID:http://www.kufer.de/kuferweb / DE
METHOD:PUBLISH
CALSCALE:GREGORIAN
X-WR-TIMEZONE:Europe/Berlin
BEGIN:VTIMEZONE
TZID:Europe/Berlin
X-LIC-LOCATION:Europe/Berlin
BEGIN:DAYLIGHT
TZOFFSETFROM:+0100
TZOFFSETTO:+0200
TZNAME:CEST
DTSTART;TZID=Europe/Berlin:19700329T020000
RRULE:FREQ=YEARLY;INTERVAL=1;BYDAY=-1SU;BYMONTH=3
END:DAYLIGHT
BEGIN:STANDARD
TZOFFSETFROM:+0200
TZOFFSETTO:+0100
TZNAME:CET
DTSTART;TZID=Europe/Berlin:19701025T030000
RRULE:FREQ=YEARLY;INTERVAL=1;BYDAY=-1SU;BYMONTH=10
END:STANDARD
END:VTIMEZONE
BEGIN:VEVENT
DTSTAMP:20260421T083350
DTSTART;TZID=Europe/Berlin:20260302T184500
DTEND;TZID=Europe/Berlin:20260302T194500
UID:261ND413A-20260302T184500@STÄDTISCHE VOLKSHOCHSCHULE ABENSBERG UND NEUSTADT
SUMMARY:Hatha Yoga am Abend (261ND413A) 
LOCATION:Neustadt, Kulturhaus Storchenwirt, Raum 3.2, Stadtplatz 13 , 93333 Neustadt an der Donau 
END:VEVENT
BEGIN:VEVENT
DTSTAMP:20260421T083350
DTSTART;TZID=Europe/Berlin:20260309T184500
DTEND;TZID=Europe/Berlin:20260309T194500
UID:261ND413A-20260309T184500@STÄDTISCHE VOLKSHOCHSCHULE ABENSBERG UND NEUSTADT
SUMMARY:Hatha Yoga am Abend (261ND413A) 
LOCATION:Neustadt, Kulturhaus Storchenwirt, Raum 3.2, Stadtplatz 13 , 93333 Neustadt an der Donau 
END:VEVENT
BEGIN:VEVENT
DTSTAMP:20260421T083350
DTSTART;TZID=Europe/Berlin:20260316T184500
DTEND;TZID=Europe/Berlin:20260316T194500
UID:261ND413A-20260316T184500@STÄDTISCHE VOLKSHOCHSCHULE ABENSBERG UND NEUSTADT
SUMMARY:Hatha Yoga am Abend (261ND413A) 
LOCATION:Neustadt, Kulturhaus Storchenwirt, Raum 3.2, Stadtplatz 13 , 93333 Neustadt an der Donau 
END:VEVENT
BEGIN:VEVENT
DTSTAMP:20260421T083350
DTSTART;TZID=Europe/Berlin:20260323T184500
DTEND;TZID=Europe/Berlin:20260323T194500
UID:261ND413A-20260323T184500@STÄDTISCHE VOLKSHOCHSCHULE ABENSBERG UND NEUSTADT
SUMMARY:Hatha Yoga am Abend (261ND413A) 
LOCATION:Neustadt, Kulturhaus Storchenwirt, Raum 3.2, Stadtplatz 13 , 93333 Neustadt an der Donau 
END:VEVENT
BEGIN:VEVENT
DTSTAMP:20260421T083350
DTSTART;TZID=Europe/Berlin:20260413T184500
DTEND;TZID=Europe/Berlin:20260413T194500
UID:261ND413A-20260413T184500@STÄDTISCHE VOLKSHOCHSCHULE ABENSBERG UND NEUSTADT
SUMMARY:Hatha Yoga am Abend (261ND413A) 
LOCATION:Neustadt, Kulturhaus Storchenwirt, Raum 3.2, Stadtplatz 13 , 93333 Neustadt an der Donau 
END:VEVENT
BEGIN:VEVENT
DTSTAMP:20260421T083350
DTSTART;TZID=Europe/Berlin:20260420T184500
DTEND;TZID=Europe/Berlin:20260420T194500
UID:261ND413A-20260420T184500@STÄDTISCHE VOLKSHOCHSCHULE ABENSBERG UND NEUSTADT
SUMMARY:Hatha Yoga am Abend (261ND413A) 
LOCATION:Neustadt, Kulturhaus Storchenwirt, Raum 3.2, Stadtplatz 13 , 93333 Neustadt an der Donau 
END:VEVENT
BEGIN:VEVENT
DTSTAMP:20260421T083350
DTSTART;TZID=Europe/Berlin:20260427T184500
DTEND;TZID=Europe/Berlin:20260427T194500
UID:261ND413A-20260427T184500@STÄDTISCHE VOLKSHOCHSCHULE ABENSBERG UND NEUSTADT
SUMMARY:Hatha Yoga am Abend (261ND413A) 
LOCATION:Neustadt, Kulturhaus Storchenwirt, Raum 3.2, Stadtplatz 13 , 93333 Neustadt an der Donau 
END:VEVENT
BEGIN:VEVENT
DTSTAMP:20260421T083350
DTSTART;TZID=Europe/Berlin:20260504T184500
DTEND;TZID=Europe/Berlin:20260504T194500
UID:261ND413A-20260504T184500@STÄDTISCHE VOLKSHOCHSCHULE ABENSBERG UND NEUSTADT
SUMMARY:Hatha Yoga am Abend (261ND413A) 
LOCATION:Neustadt, Kulturhaus Storchenwirt, Raum 3.2, Stadtplatz 13 , 93333 Neustadt an der Donau 
END:VEVENT
BEGIN:VEVENT
DTSTAMP:20260421T083350
DTSTART;TZID=Europe/Berlin:20260511T184500
DTEND;TZID=Europe/Berlin:20260511T194500
UID:261ND413A-20260511T184500@STÄDTISCHE VOLKSHOCHSCHULE ABENSBERG UND NEUSTADT
SUMMARY:Hatha Yoga am Abend (261ND413A) 
LOCATION:Neustadt, Kulturhaus Storchenwirt, Raum 3.2, Stadtplatz 13 , 93333 Neustadt an der Donau 
END:VEVENT
BEGIN:VEVENT
DTSTAMP:20260421T083350
DTSTART;TZID=Europe/Berlin:20260518T184500
DTEND;TZID=Europe/Berlin:20260518T194500
UID:261ND413A-20260518T184500@STÄDTISCHE VOLKSHOCHSCHULE ABENSBERG UND NEUSTADT
SUMMARY:Hatha Yoga am Abend (261ND413A) 
LOCATION:Neustadt, Kulturhaus Storchenwirt, Raum 3.2, Stadtplatz 13 , 93333 Neustadt an der Donau 
END:VEVENT
END:VCALENDAR