BEGIN:VCALENDAR
VERSION:2.0
PRODID:http://www.kufer.de/kuferweb / DE
METHOD:PUBLISH
CALSCALE:GREGORIAN
X-WR-TIMEZONE:Europe/Berlin
BEGIN:VTIMEZONE
TZID:Europe/Berlin
X-LIC-LOCATION:Europe/Berlin
BEGIN:DAYLIGHT
TZOFFSETFROM:+0100
TZOFFSETTO:+0200
TZNAME:CEST
DTSTART;TZID=Europe/Berlin:19700329T020000
RRULE:FREQ=YEARLY;INTERVAL=1;BYDAY=-1SU;BYMONTH=3
END:DAYLIGHT
BEGIN:STANDARD
TZOFFSETFROM:+0200
TZOFFSETTO:+0100
TZNAME:CET
DTSTART;TZID=Europe/Berlin:19701025T030000
RRULE:FREQ=YEARLY;INTERVAL=1;BYDAY=-1SU;BYMONTH=10
END:STANDARD
END:VTIMEZONE
BEGIN:VEVENT
DTSTAMP:20260421T172056
DTSTART;TZID=Europe/Berlin:20260612T180000
DTEND;TZID=Europe/Berlin:20260612T201500
UID:261ND301A-20260612T180000@STÄDTISCHE VOLKSHOCHSCHULE ABENSBERG UND NEUSTADT
SUMMARY:Deutsch B1 - Intensivkurs Online (261ND301A) 
LOCATION:online Kurs, , 
END:VEVENT
BEGIN:VEVENT
DTSTAMP:20260421T172056
DTSTART;TZID=Europe/Berlin:20260619T180000
DTEND;TZID=Europe/Berlin:20260619T201500
UID:261ND301A-20260619T180000@STÄDTISCHE VOLKSHOCHSCHULE ABENSBERG UND NEUSTADT
SUMMARY:Deutsch B1 - Intensivkurs Online (261ND301A) 
LOCATION:online Kurs, , 
END:VEVENT
BEGIN:VEVENT
DTSTAMP:20260421T172056
DTSTART;TZID=Europe/Berlin:20260626T180000
DTEND;TZID=Europe/Berlin:20260626T201500
UID:261ND301A-20260626T180000@STÄDTISCHE VOLKSHOCHSCHULE ABENSBERG UND NEUSTADT
SUMMARY:Deutsch B1 - Intensivkurs Online (261ND301A) 
LOCATION:online Kurs, , 
END:VEVENT
BEGIN:VEVENT
DTSTAMP:20260421T172056
DTSTART;TZID=Europe/Berlin:20260703T180000
DTEND;TZID=Europe/Berlin:20260703T201500
UID:261ND301A-20260703T180000@STÄDTISCHE VOLKSHOCHSCHULE ABENSBERG UND NEUSTADT
SUMMARY:Deutsch B1 - Intensivkurs Online (261ND301A) 
LOCATION:online Kurs, , 
END:VEVENT
BEGIN:VEVENT
DTSTAMP:20260421T172056
DTSTART;TZID=Europe/Berlin:20260710T180000
DTEND;TZID=Europe/Berlin:20260710T201500
UID:261ND301A-20260710T180000@STÄDTISCHE VOLKSHOCHSCHULE ABENSBERG UND NEUSTADT
SUMMARY:Deutsch B1 - Intensivkurs Online (261ND301A) 
LOCATION:online Kurs, , 
END:VEVENT
BEGIN:VEVENT
DTSTAMP:20260421T172056
DTSTART;TZID=Europe/Berlin:20260717T180000
DTEND;TZID=Europe/Berlin:20260717T201500
UID:261ND301A-20260717T180000@STÄDTISCHE VOLKSHOCHSCHULE ABENSBERG UND NEUSTADT
SUMMARY:Deutsch B1 - Intensivkurs Online (261ND301A) 
LOCATION:online Kurs, , 
END:VEVENT
BEGIN:VEVENT
DTSTAMP:20260421T172056
DTSTART;TZID=Europe/Berlin:20260724T180000
DTEND;TZID=Europe/Berlin:20260724T201500
UID:261ND301A-20260724T180000@STÄDTISCHE VOLKSHOCHSCHULE ABENSBERG UND NEUSTADT
SUMMARY:Deutsch B1 - Intensivkurs Online (261ND301A) 
LOCATION:online Kurs, , 
END:VEVENT
END:VCALENDAR