BEGIN:VCALENDAR
VERSION:2.0
PRODID:http://www.kufer.de/kuferweb / DE
METHOD:PUBLISH
CALSCALE:GREGORIAN
X-WR-TIMEZONE:Europe/Berlin
BEGIN:VTIMEZONE
TZID:Europe/Berlin
X-LIC-LOCATION:Europe/Berlin
BEGIN:DAYLIGHT
TZOFFSETFROM:+0100
TZOFFSETTO:+0200
TZNAME:CEST
DTSTART;TZID=Europe/Berlin:19700329T020000
RRULE:FREQ=YEARLY;INTERVAL=1;BYDAY=-1SU;BYMONTH=3
END:DAYLIGHT
BEGIN:STANDARD
TZOFFSETFROM:+0200
TZOFFSETTO:+0100
TZNAME:CET
DTSTART;TZID=Europe/Berlin:19701025T030000
RRULE:FREQ=YEARLY;INTERVAL=1;BYDAY=-1SU;BYMONTH=10
END:STANDARD
END:VTIMEZONE
BEGIN:VEVENT
DTSTAMP:20260419T153457
DTSTART;TZID=Europe/Berlin:20260907T073000
DTEND;TZID=Europe/Berlin:20260907T163000
UID:261H050-20260907T073000@STÄDTISCHE VOLKSHOCHSCHULE ABENSBERG UND NEUSTADT
SUMMARY:Sommerferiengruppe 6. Woche - von 6-12 Jahren - Vorankündigung (261H050) 
LOCATION:Abensberg, Jugendzentrum Gleis 1, Bad Gögginger Weg 12, Bad Gögginger Weg 12, 93326 Abensberg
END:VEVENT
BEGIN:VEVENT
DTSTAMP:20260419T153457
DTSTART;TZID=Europe/Berlin:20260908T073000
DTEND;TZID=Europe/Berlin:20260908T163000
UID:261H050-20260908T073000@STÄDTISCHE VOLKSHOCHSCHULE ABENSBERG UND NEUSTADT
SUMMARY:Sommerferiengruppe 6. Woche - von 6-12 Jahren - Vorankündigung (261H050) 
LOCATION:Abensberg, Jugendzentrum Gleis 1, Bad Gögginger Weg 12, Bad Gögginger Weg 12, 93326 Abensberg
END:VEVENT
BEGIN:VEVENT
DTSTAMP:20260419T153457
DTSTART;TZID=Europe/Berlin:20260909T073000
DTEND;TZID=Europe/Berlin:20260909T163000
UID:261H050-20260909T073000@STÄDTISCHE VOLKSHOCHSCHULE ABENSBERG UND NEUSTADT
SUMMARY:Sommerferiengruppe 6. Woche - von 6-12 Jahren - Vorankündigung (261H050) 
LOCATION:Abensberg, Jugendzentrum Gleis 1, Bad Gögginger Weg 12, Bad Gögginger Weg 12, 93326 Abensberg
END:VEVENT
BEGIN:VEVENT
DTSTAMP:20260419T153457
DTSTART;TZID=Europe/Berlin:20260910T073000
DTEND;TZID=Europe/Berlin:20260910T163000
UID:261H050-20260910T073000@STÄDTISCHE VOLKSHOCHSCHULE ABENSBERG UND NEUSTADT
SUMMARY:Sommerferiengruppe 6. Woche - von 6-12 Jahren - Vorankündigung (261H050) 
LOCATION:Abensberg, Jugendzentrum Gleis 1, Bad Gögginger Weg 12, Bad Gögginger Weg 12, 93326 Abensberg
END:VEVENT
BEGIN:VEVENT
DTSTAMP:20260419T153457
DTSTART;TZID=Europe/Berlin:20260911T073000
DTEND;TZID=Europe/Berlin:20260911T163000
UID:261H050-20260911T073000@STÄDTISCHE VOLKSHOCHSCHULE ABENSBERG UND NEUSTADT
SUMMARY:Sommerferiengruppe 6. Woche - von 6-12 Jahren - Vorankündigung (261H050) 
LOCATION:Abensberg, Jugendzentrum Gleis 1, Bad Gögginger Weg 12, Bad Gögginger Weg 12, 93326 Abensberg
END:VEVENT
END:VCALENDAR