BEGIN:VCALENDAR
VERSION:2.0
PRODID:http://www.kufer.de/kuferweb / DE
METHOD:PUBLISH
CALSCALE:GREGORIAN
X-WR-TIMEZONE:Europe/Berlin
BEGIN:VTIMEZONE
TZID:Europe/Berlin
X-LIC-LOCATION:Europe/Berlin
BEGIN:DAYLIGHT
TZOFFSETFROM:+0100
TZOFFSETTO:+0200
TZNAME:CEST
DTSTART;TZID=Europe/Berlin:19700329T020000
RRULE:FREQ=YEARLY;INTERVAL=1;BYDAY=-1SU;BYMONTH=3
END:DAYLIGHT
BEGIN:STANDARD
TZOFFSETFROM:+0200
TZOFFSETTO:+0100
TZNAME:CET
DTSTART;TZID=Europe/Berlin:19701025T030000
RRULE:FREQ=YEARLY;INTERVAL=1;BYDAY=-1SU;BYMONTH=10
END:STANDARD
END:VTIMEZONE
BEGIN:VEVENT
DTSTAMP:20260421T130722
DTSTART;TZID=Europe/Berlin:20260810T090000
DTEND;TZID=Europe/Berlin:20260810T160000
UID:261H015-20260810T090000@STÄDTISCHE VOLKSHOCHSCHULE ABENSBERG UND NEUSTADT
SUMMARY:Spielwoche der Stadt Abensberg - von 5-12 Jahren - Vorankündigung (261H015) 
LOCATION:Abensberg, Prälat-Michael-Thaller-Schule, Regensburger Str. 58, Regensburger Str. 58, 93326 Abensberg
END:VEVENT
BEGIN:VEVENT
DTSTAMP:20260421T130722
DTSTART;TZID=Europe/Berlin:20260811T090000
DTEND;TZID=Europe/Berlin:20260811T160000
UID:261H015-20260811T090000@STÄDTISCHE VOLKSHOCHSCHULE ABENSBERG UND NEUSTADT
SUMMARY:Spielwoche der Stadt Abensberg - von 5-12 Jahren - Vorankündigung (261H015) 
LOCATION:Abensberg, Prälat-Michael-Thaller-Schule, Regensburger Str. 58, Regensburger Str. 58, 93326 Abensberg
END:VEVENT
BEGIN:VEVENT
DTSTAMP:20260421T130722
DTSTART;TZID=Europe/Berlin:20260812T090000
DTEND;TZID=Europe/Berlin:20260812T160000
UID:261H015-20260812T090000@STÄDTISCHE VOLKSHOCHSCHULE ABENSBERG UND NEUSTADT
SUMMARY:Spielwoche der Stadt Abensberg - von 5-12 Jahren - Vorankündigung (261H015) 
LOCATION:Abensberg, Prälat-Michael-Thaller-Schule, Regensburger Str. 58, Regensburger Str. 58, 93326 Abensberg
END:VEVENT
BEGIN:VEVENT
DTSTAMP:20260421T130722
DTSTART;TZID=Europe/Berlin:20260813T090000
DTEND;TZID=Europe/Berlin:20260813T160000
UID:261H015-20260813T090000@STÄDTISCHE VOLKSHOCHSCHULE ABENSBERG UND NEUSTADT
SUMMARY:Spielwoche der Stadt Abensberg - von 5-12 Jahren - Vorankündigung (261H015) 
LOCATION:Abensberg, Prälat-Michael-Thaller-Schule, Regensburger Str. 58, Regensburger Str. 58, 93326 Abensberg
END:VEVENT
BEGIN:VEVENT
DTSTAMP:20260421T130722
DTSTART;TZID=Europe/Berlin:20260814T090000
DTEND;TZID=Europe/Berlin:20260814T140000
UID:261H015-20260814T090000@STÄDTISCHE VOLKSHOCHSCHULE ABENSBERG UND NEUSTADT
SUMMARY:Spielwoche der Stadt Abensberg - von 5-12 Jahren - Vorankündigung (261H015) 
LOCATION:Abensberg, Prälat-Michael-Thaller-Schule, Regensburger Str. 58, Regensburger Str. 58, 93326 Abensberg
END:VEVENT
END:VCALENDAR