BEGIN:VCALENDAR
VERSION:2.0
PRODID:http://www.kufer.de/kuferweb / DE
METHOD:PUBLISH
CALSCALE:GREGORIAN
X-WR-TIMEZONE:Europe/Berlin
BEGIN:VTIMEZONE
TZID:Europe/Berlin
X-LIC-LOCATION:Europe/Berlin
BEGIN:DAYLIGHT
TZOFFSETFROM:+0100
TZOFFSETTO:+0200
TZNAME:CEST
DTSTART;TZID=Europe/Berlin:19700329T020000
RRULE:FREQ=YEARLY;INTERVAL=1;BYDAY=-1SU;BYMONTH=3
END:DAYLIGHT
BEGIN:STANDARD
TZOFFSETFROM:+0200
TZOFFSETTO:+0100
TZNAME:CET
DTSTART;TZID=Europe/Berlin:19701025T030000
RRULE:FREQ=YEARLY;INTERVAL=1;BYDAY=-1SU;BYMONTH=10
END:STANDARD
END:VTIMEZONE
BEGIN:VEVENT
DTSTAMP:20260420T071349
DTSTART;TZID=Europe/Berlin:20260610T081500
DTEND;TZID=Europe/Berlin:20260610T090000
UID:261BG422B-20260610T081500@STÄDTISCHE VOLKSHOCHSCHULE ABENSBERG UND NEUSTADT
SUMMARY:Aqua Gymnastik (261BG422B) 
LOCATION:Bad Gögging, Limes Therme, Am Brunnenforum 1 , 93333 Neustadt - Bad Gögging 
END:VEVENT
BEGIN:VEVENT
DTSTAMP:20260420T071349
DTSTART;TZID=Europe/Berlin:20260617T081500
DTEND;TZID=Europe/Berlin:20260617T090000
UID:261BG422B-20260617T081500@STÄDTISCHE VOLKSHOCHSCHULE ABENSBERG UND NEUSTADT
SUMMARY:Aqua Gymnastik (261BG422B) 
LOCATION:Bad Gögging, Limes Therme, Am Brunnenforum 1 , 93333 Neustadt - Bad Gögging 
END:VEVENT
BEGIN:VEVENT
DTSTAMP:20260420T071349
DTSTART;TZID=Europe/Berlin:20260624T081500
DTEND;TZID=Europe/Berlin:20260624T090000
UID:261BG422B-20260624T081500@STÄDTISCHE VOLKSHOCHSCHULE ABENSBERG UND NEUSTADT
SUMMARY:Aqua Gymnastik (261BG422B) 
LOCATION:Bad Gögging, Limes Therme, Am Brunnenforum 1 , 93333 Neustadt - Bad Gögging 
END:VEVENT
BEGIN:VEVENT
DTSTAMP:20260420T071349
DTSTART;TZID=Europe/Berlin:20260701T081500
DTEND;TZID=Europe/Berlin:20260701T090000
UID:261BG422B-20260701T081500@STÄDTISCHE VOLKSHOCHSCHULE ABENSBERG UND NEUSTADT
SUMMARY:Aqua Gymnastik (261BG422B) 
LOCATION:Bad Gögging, Limes Therme, Am Brunnenforum 1 , 93333 Neustadt - Bad Gögging 
END:VEVENT
BEGIN:VEVENT
DTSTAMP:20260420T071349
DTSTART;TZID=Europe/Berlin:20260708T081500
DTEND;TZID=Europe/Berlin:20260708T090000
UID:261BG422B-20260708T081500@STÄDTISCHE VOLKSHOCHSCHULE ABENSBERG UND NEUSTADT
SUMMARY:Aqua Gymnastik (261BG422B) 
LOCATION:Bad Gögging, Limes Therme, Am Brunnenforum 1 , 93333 Neustadt - Bad Gögging 
END:VEVENT
BEGIN:VEVENT
DTSTAMP:20260420T071349
DTSTART;TZID=Europe/Berlin:20260715T081500
DTEND;TZID=Europe/Berlin:20260715T090000
UID:261BG422B-20260715T081500@STÄDTISCHE VOLKSHOCHSCHULE ABENSBERG UND NEUSTADT
SUMMARY:Aqua Gymnastik (261BG422B) 
LOCATION:Bad Gögging, Limes Therme, Am Brunnenforum 1 , 93333 Neustadt - Bad Gögging 
END:VEVENT
BEGIN:VEVENT
DTSTAMP:20260420T071349
DTSTART;TZID=Europe/Berlin:20260722T081500
DTEND;TZID=Europe/Berlin:20260722T090000
UID:261BG422B-20260722T081500@STÄDTISCHE VOLKSHOCHSCHULE ABENSBERG UND NEUSTADT
SUMMARY:Aqua Gymnastik (261BG422B) 
LOCATION:Bad Gögging, Limes Therme, Am Brunnenforum 1 , 93333 Neustadt - Bad Gögging 
END:VEVENT
BEGIN:VEVENT
DTSTAMP:20260420T071349
DTSTART;TZID=Europe/Berlin:20260729T081500
DTEND;TZID=Europe/Berlin:20260729T090000
UID:261BG422B-20260729T081500@STÄDTISCHE VOLKSHOCHSCHULE ABENSBERG UND NEUSTADT
SUMMARY:Aqua Gymnastik (261BG422B) 
LOCATION:Bad Gögging, Limes Therme, Am Brunnenforum 1 , 93333 Neustadt - Bad Gögging 
END:VEVENT
END:VCALENDAR