BEGIN:VCALENDAR
VERSION:2.0
PRODID:http://www.kufer.de/kuferweb / DE
METHOD:PUBLISH
CALSCALE:GREGORIAN
X-WR-TIMEZONE:Europe/Berlin
BEGIN:VTIMEZONE
TZID:Europe/Berlin
X-LIC-LOCATION:Europe/Berlin
BEGIN:DAYLIGHT
TZOFFSETFROM:+0100
TZOFFSETTO:+0200
TZNAME:CEST
DTSTART;TZID=Europe/Berlin:19700329T020000
RRULE:FREQ=YEARLY;INTERVAL=1;BYDAY=-1SU;BYMONTH=3
END:DAYLIGHT
BEGIN:STANDARD
TZOFFSETFROM:+0200
TZOFFSETTO:+0100
TZNAME:CET
DTSTART;TZID=Europe/Berlin:19701025T030000
RRULE:FREQ=YEARLY;INTERVAL=1;BYDAY=-1SU;BYMONTH=10
END:STANDARD
END:VTIMEZONE
BEGIN:VEVENT
DTSTAMP:20260419T203925
DTSTART;TZID=Europe/Berlin:20260304T081500
DTEND;TZID=Europe/Berlin:20260304T090000
UID:261BG422A-20260304T081500@STÄDTISCHE VOLKSHOCHSCHULE ABENSBERG UND NEUSTADT
SUMMARY:Aqua Gymnastik (261BG422A) 
LOCATION:Bad Gögging, Limes Therme, Am Brunnenforum 1 , 93333 Neustadt - Bad Gögging 
END:VEVENT
BEGIN:VEVENT
DTSTAMP:20260419T203925
DTSTART;TZID=Europe/Berlin:20260311T081500
DTEND;TZID=Europe/Berlin:20260311T090000
UID:261BG422A-20260311T081500@STÄDTISCHE VOLKSHOCHSCHULE ABENSBERG UND NEUSTADT
SUMMARY:Aqua Gymnastik (261BG422A) 
LOCATION:Bad Gögging, Limes Therme, Am Brunnenforum 1 , 93333 Neustadt - Bad Gögging 
END:VEVENT
BEGIN:VEVENT
DTSTAMP:20260419T203925
DTSTART;TZID=Europe/Berlin:20260318T081500
DTEND;TZID=Europe/Berlin:20260318T090000
UID:261BG422A-20260318T081500@STÄDTISCHE VOLKSHOCHSCHULE ABENSBERG UND NEUSTADT
SUMMARY:Aqua Gymnastik (261BG422A) 
LOCATION:Bad Gögging, Limes Therme, Am Brunnenforum 1 , 93333 Neustadt - Bad Gögging 
END:VEVENT
BEGIN:VEVENT
DTSTAMP:20260419T203925
DTSTART;TZID=Europe/Berlin:20260325T081500
DTEND;TZID=Europe/Berlin:20260325T090000
UID:261BG422A-20260325T081500@STÄDTISCHE VOLKSHOCHSCHULE ABENSBERG UND NEUSTADT
SUMMARY:Aqua Gymnastik (261BG422A) 
LOCATION:Bad Gögging, Limes Therme, Am Brunnenforum 1 , 93333 Neustadt - Bad Gögging 
END:VEVENT
BEGIN:VEVENT
DTSTAMP:20260419T203925
DTSTART;TZID=Europe/Berlin:20260415T081500
DTEND;TZID=Europe/Berlin:20260415T090000
UID:261BG422A-20260415T081500@STÄDTISCHE VOLKSHOCHSCHULE ABENSBERG UND NEUSTADT
SUMMARY:Aqua Gymnastik (261BG422A) 
LOCATION:Bad Gögging, Limes Therme, Am Brunnenforum 1 , 93333 Neustadt - Bad Gögging 
END:VEVENT
BEGIN:VEVENT
DTSTAMP:20260419T203925
DTSTART;TZID=Europe/Berlin:20260422T081500
DTEND;TZID=Europe/Berlin:20260422T090000
UID:261BG422A-20260422T081500@STÄDTISCHE VOLKSHOCHSCHULE ABENSBERG UND NEUSTADT
SUMMARY:Aqua Gymnastik (261BG422A) 
LOCATION:Bad Gögging, Limes Therme, Am Brunnenforum 1 , 93333 Neustadt - Bad Gögging 
END:VEVENT
BEGIN:VEVENT
DTSTAMP:20260419T203925
DTSTART;TZID=Europe/Berlin:20260429T081500
DTEND;TZID=Europe/Berlin:20260429T090000
UID:261BG422A-20260429T081500@STÄDTISCHE VOLKSHOCHSCHULE ABENSBERG UND NEUSTADT
SUMMARY:Aqua Gymnastik (261BG422A) 
LOCATION:Bad Gögging, Limes Therme, Am Brunnenforum 1 , 93333 Neustadt - Bad Gögging 
END:VEVENT
BEGIN:VEVENT
DTSTAMP:20260419T203925
DTSTART;TZID=Europe/Berlin:20260506T081500
DTEND;TZID=Europe/Berlin:20260506T090000
UID:261BG422A-20260506T081500@STÄDTISCHE VOLKSHOCHSCHULE ABENSBERG UND NEUSTADT
SUMMARY:Aqua Gymnastik (261BG422A) 
LOCATION:Bad Gögging, Limes Therme, Am Brunnenforum 1 , 93333 Neustadt - Bad Gögging 
END:VEVENT
BEGIN:VEVENT
DTSTAMP:20260419T203925
DTSTART;TZID=Europe/Berlin:20260513T081500
DTEND;TZID=Europe/Berlin:20260513T090000
UID:261BG422A-20260513T081500@STÄDTISCHE VOLKSHOCHSCHULE ABENSBERG UND NEUSTADT
SUMMARY:Aqua Gymnastik (261BG422A) 
LOCATION:Bad Gögging, Limes Therme, Am Brunnenforum 1 , 93333 Neustadt - Bad Gögging 
END:VEVENT
END:VCALENDAR