BEGIN:VCALENDAR
VERSION:2.0
PRODID:http://www.kufer.de/kuferweb / DE
METHOD:PUBLISH
CALSCALE:GREGORIAN
X-WR-TIMEZONE:Europe/Berlin
BEGIN:VTIMEZONE
TZID:Europe/Berlin
X-LIC-LOCATION:Europe/Berlin
BEGIN:DAYLIGHT
TZOFFSETFROM:+0100
TZOFFSETTO:+0200
TZNAME:CEST
DTSTART;TZID=Europe/Berlin:19700329T020000
RRULE:FREQ=YEARLY;INTERVAL=1;BYDAY=-1SU;BYMONTH=3
END:DAYLIGHT
BEGIN:STANDARD
TZOFFSETFROM:+0200
TZOFFSETTO:+0100
TZNAME:CET
DTSTART;TZID=Europe/Berlin:19701025T030000
RRULE:FREQ=YEARLY;INTERVAL=1;BYDAY=-1SU;BYMONTH=10
END:STANDARD
END:VTIMEZONE
BEGIN:VEVENT
DTSTAMP:20260419T153507
DTSTART;TZID=Europe/Berlin:20260612T165000
DTEND;TZID=Europe/Berlin:20260612T174500
UID:261BA721B-20260612T165000@STÄDTISCHE VOLKSHOCHSCHULE ABENSBERG UND NEUSTADT
SUMMARY:Zumba® Teens - von 11-13 Jahren (261BA721B) 
LOCATION:Bad Abbach, Kurhaus - Funktionsraum, Kaiser-Karl-V. Allee 5, 93077 Bad Abbach
END:VEVENT
BEGIN:VEVENT
DTSTAMP:20260419T153507
DTSTART;TZID=Europe/Berlin:20260619T165000
DTEND;TZID=Europe/Berlin:20260619T174500
UID:261BA721B-20260619T165000@STÄDTISCHE VOLKSHOCHSCHULE ABENSBERG UND NEUSTADT
SUMMARY:Zumba® Teens - von 11-13 Jahren (261BA721B) 
LOCATION:Bad Abbach, Kurhaus - Funktionsraum, Kaiser-Karl-V. Allee 5, 93077 Bad Abbach
END:VEVENT
BEGIN:VEVENT
DTSTAMP:20260419T153507
DTSTART;TZID=Europe/Berlin:20260626T165000
DTEND;TZID=Europe/Berlin:20260626T174500
UID:261BA721B-20260626T165000@STÄDTISCHE VOLKSHOCHSCHULE ABENSBERG UND NEUSTADT
SUMMARY:Zumba® Teens - von 11-13 Jahren (261BA721B) 
LOCATION:Bad Abbach, Kurhaus - Funktionsraum, Kaiser-Karl-V. Allee 5, 93077 Bad Abbach
END:VEVENT
BEGIN:VEVENT
DTSTAMP:20260419T153507
DTSTART;TZID=Europe/Berlin:20260703T165000
DTEND;TZID=Europe/Berlin:20260703T174500
UID:261BA721B-20260703T165000@STÄDTISCHE VOLKSHOCHSCHULE ABENSBERG UND NEUSTADT
SUMMARY:Zumba® Teens - von 11-13 Jahren (261BA721B) 
LOCATION:Bad Abbach, Kurhaus - Funktionsraum, Kaiser-Karl-V. Allee 5, 93077 Bad Abbach
END:VEVENT
BEGIN:VEVENT
DTSTAMP:20260419T153507
DTSTART;TZID=Europe/Berlin:20260710T165000
DTEND;TZID=Europe/Berlin:20260710T174500
UID:261BA721B-20260710T165000@STÄDTISCHE VOLKSHOCHSCHULE ABENSBERG UND NEUSTADT
SUMMARY:Zumba® Teens - von 11-13 Jahren (261BA721B) 
LOCATION:Bad Abbach, Kurhaus - Funktionsraum, Kaiser-Karl-V. Allee 5, 93077 Bad Abbach
END:VEVENT
BEGIN:VEVENT
DTSTAMP:20260419T153507
DTSTART;TZID=Europe/Berlin:20260717T165000
DTEND;TZID=Europe/Berlin:20260717T174500
UID:261BA721B-20260717T165000@STÄDTISCHE VOLKSHOCHSCHULE ABENSBERG UND NEUSTADT
SUMMARY:Zumba® Teens - von 11-13 Jahren (261BA721B) 
LOCATION:Bad Abbach, Kurhaus - Funktionsraum, Kaiser-Karl-V. Allee 5, 93077 Bad Abbach
END:VEVENT
BEGIN:VEVENT
DTSTAMP:20260419T153507
DTSTART;TZID=Europe/Berlin:20260724T165000
DTEND;TZID=Europe/Berlin:20260724T174500
UID:261BA721B-20260724T165000@STÄDTISCHE VOLKSHOCHSCHULE ABENSBERG UND NEUSTADT
SUMMARY:Zumba® Teens - von 11-13 Jahren (261BA721B) 
LOCATION:Bad Abbach, Kurhaus - Funktionsraum, Kaiser-Karl-V. Allee 5, 93077 Bad Abbach
END:VEVENT
END:VCALENDAR