BEGIN:VCALENDAR
VERSION:2.0
PRODID:http://www.kufer.de/kuferweb / DE
METHOD:PUBLISH
CALSCALE:GREGORIAN
X-WR-TIMEZONE:Europe/Berlin
BEGIN:VTIMEZONE
TZID:Europe/Berlin
X-LIC-LOCATION:Europe/Berlin
BEGIN:DAYLIGHT
TZOFFSETFROM:+0100
TZOFFSETTO:+0200
TZNAME:CEST
DTSTART;TZID=Europe/Berlin:19700329T020000
RRULE:FREQ=YEARLY;INTERVAL=1;BYDAY=-1SU;BYMONTH=3
END:DAYLIGHT
BEGIN:STANDARD
TZOFFSETFROM:+0200
TZOFFSETTO:+0100
TZNAME:CET
DTSTART;TZID=Europe/Berlin:19701025T030000
RRULE:FREQ=YEARLY;INTERVAL=1;BYDAY=-1SU;BYMONTH=10
END:STANDARD
END:VTIMEZONE
BEGIN:VEVENT
DTSTAMP:20260420T035409
DTSTART;TZID=Europe/Berlin:20260614T090000
DTEND;TZID=Europe/Berlin:20260614T100000
UID:261BA441B-20260614T090000@STÄDTISCHE VOLKSHOCHSCHULE ABENSBERG UND NEUSTADT
SUMMARY:Pilates (261BA441B) 
LOCATION:Bad Abbach, Kurhaus - Funktionsraum, Kaiser-Karl-V. Allee 5, 93077 Bad Abbach
END:VEVENT
BEGIN:VEVENT
DTSTAMP:20260420T035409
DTSTART;TZID=Europe/Berlin:20260621T090000
DTEND;TZID=Europe/Berlin:20260621T100000
UID:261BA441B-20260621T090000@STÄDTISCHE VOLKSHOCHSCHULE ABENSBERG UND NEUSTADT
SUMMARY:Pilates (261BA441B) 
LOCATION:Bad Abbach, Kurhaus - Funktionsraum, Kaiser-Karl-V. Allee 5, 93077 Bad Abbach
END:VEVENT
BEGIN:VEVENT
DTSTAMP:20260420T035409
DTSTART;TZID=Europe/Berlin:20260628T090000
DTEND;TZID=Europe/Berlin:20260628T100000
UID:261BA441B-20260628T090000@STÄDTISCHE VOLKSHOCHSCHULE ABENSBERG UND NEUSTADT
SUMMARY:Pilates (261BA441B) 
LOCATION:Bad Abbach, Kurhaus - Funktionsraum, Kaiser-Karl-V. Allee 5, 93077 Bad Abbach
END:VEVENT
BEGIN:VEVENT
DTSTAMP:20260420T035409
DTSTART;TZID=Europe/Berlin:20260705T090000
DTEND;TZID=Europe/Berlin:20260705T100000
UID:261BA441B-20260705T090000@STÄDTISCHE VOLKSHOCHSCHULE ABENSBERG UND NEUSTADT
SUMMARY:Pilates (261BA441B) 
LOCATION:Bad Abbach, Kurhaus - Funktionsraum, Kaiser-Karl-V. Allee 5, 93077 Bad Abbach
END:VEVENT
BEGIN:VEVENT
DTSTAMP:20260420T035409
DTSTART;TZID=Europe/Berlin:20260712T090000
DTEND;TZID=Europe/Berlin:20260712T100000
UID:261BA441B-20260712T090000@STÄDTISCHE VOLKSHOCHSCHULE ABENSBERG UND NEUSTADT
SUMMARY:Pilates (261BA441B) 
LOCATION:Bad Abbach, Kurhaus - Funktionsraum, Kaiser-Karl-V. Allee 5, 93077 Bad Abbach
END:VEVENT
BEGIN:VEVENT
DTSTAMP:20260420T035409
DTSTART;TZID=Europe/Berlin:20260719T090000
DTEND;TZID=Europe/Berlin:20260719T100000
UID:261BA441B-20260719T090000@STÄDTISCHE VOLKSHOCHSCHULE ABENSBERG UND NEUSTADT
SUMMARY:Pilates (261BA441B) 
LOCATION:Bad Abbach, Kurhaus - Funktionsraum, Kaiser-Karl-V. Allee 5, 93077 Bad Abbach
END:VEVENT
BEGIN:VEVENT
DTSTAMP:20260420T035409
DTSTART;TZID=Europe/Berlin:20260726T090000
DTEND;TZID=Europe/Berlin:20260726T100000
UID:261BA441B-20260726T090000@STÄDTISCHE VOLKSHOCHSCHULE ABENSBERG UND NEUSTADT
SUMMARY:Pilates (261BA441B) 
LOCATION:Bad Abbach, Kurhaus - Funktionsraum, Kaiser-Karl-V. Allee 5, 93077 Bad Abbach
END:VEVENT
END:VCALENDAR