BEGIN:VCALENDAR
VERSION:2.0
PRODID:http://www.kufer.de/kuferweb / DE
METHOD:PUBLISH
CALSCALE:GREGORIAN
X-WR-TIMEZONE:Europe/Berlin
BEGIN:VTIMEZONE
TZID:Europe/Berlin
X-LIC-LOCATION:Europe/Berlin
BEGIN:DAYLIGHT
TZOFFSETFROM:+0100
TZOFFSETTO:+0200
TZNAME:CEST
DTSTART;TZID=Europe/Berlin:19700329T020000
RRULE:FREQ=YEARLY;INTERVAL=1;BYDAY=-1SU;BYMONTH=3
END:DAYLIGHT
BEGIN:STANDARD
TZOFFSETFROM:+0200
TZOFFSETTO:+0100
TZNAME:CET
DTSTART;TZID=Europe/Berlin:19701025T030000
RRULE:FREQ=YEARLY;INTERVAL=1;BYDAY=-1SU;BYMONTH=10
END:STANDARD
END:VTIMEZONE
BEGIN:VEVENT
DTSTAMP:20260421T133313
DTSTART;TZID=Europe/Berlin:20260925T130000
DTEND;TZID=Europe/Berlin:20260925T180000
UID:261AB592-20260925T130000@STÄDTISCHE VOLKSHOCHSCHULE ABENSBERG UND NEUSTADT
SUMMARY:Krippenbaukurs für Anfänger und Fortgeschrittene (261AB592) 
LOCATION:Abensberg, Bergstr. 26, OT Sandharlanden, Bergstr. 26, 93326 Abensberg
END:VEVENT
BEGIN:VEVENT
DTSTAMP:20260421T133313
DTSTART;TZID=Europe/Berlin:20260926T090000
DTEND;TZID=Europe/Berlin:20260926T180000
UID:261AB592-20260926T090000@STÄDTISCHE VOLKSHOCHSCHULE ABENSBERG UND NEUSTADT
SUMMARY:Krippenbaukurs für Anfänger und Fortgeschrittene (261AB592) 
LOCATION:Abensberg, Bergstr. 26, OT Sandharlanden, Bergstr. 26, 93326 Abensberg
END:VEVENT
BEGIN:VEVENT
DTSTAMP:20260421T133313
DTSTART;TZID=Europe/Berlin:20261002T090000
DTEND;TZID=Europe/Berlin:20261002T180000
UID:261AB592-20261002T090000@STÄDTISCHE VOLKSHOCHSCHULE ABENSBERG UND NEUSTADT
SUMMARY:Krippenbaukurs für Anfänger und Fortgeschrittene (261AB592) 
LOCATION:Abensberg, Bergstr. 26, OT Sandharlanden, Bergstr. 26, 93326 Abensberg
END:VEVENT
BEGIN:VEVENT
DTSTAMP:20260421T133313
DTSTART;TZID=Europe/Berlin:20261009T130000
DTEND;TZID=Europe/Berlin:20261009T180000
UID:261AB592-20261009T130000@STÄDTISCHE VOLKSHOCHSCHULE ABENSBERG UND NEUSTADT
SUMMARY:Krippenbaukurs für Anfänger und Fortgeschrittene (261AB592) 
LOCATION:Abensberg, Bergstr. 26, OT Sandharlanden, Bergstr. 26, 93326 Abensberg
END:VEVENT
BEGIN:VEVENT
DTSTAMP:20260421T133313
DTSTART;TZID=Europe/Berlin:20261010T090000
DTEND;TZID=Europe/Berlin:20261010T180000
UID:261AB592-20261010T090000@STÄDTISCHE VOLKSHOCHSCHULE ABENSBERG UND NEUSTADT
SUMMARY:Krippenbaukurs für Anfänger und Fortgeschrittene (261AB592) 
LOCATION:Abensberg, Bergstr. 26, OT Sandharlanden, Bergstr. 26, 93326 Abensberg
END:VEVENT
BEGIN:VEVENT
DTSTAMP:20260421T133313
DTSTART;TZID=Europe/Berlin:20261016T130000
DTEND;TZID=Europe/Berlin:20261016T180000
UID:261AB592-20261016T130000@STÄDTISCHE VOLKSHOCHSCHULE ABENSBERG UND NEUSTADT
SUMMARY:Krippenbaukurs für Anfänger und Fortgeschrittene (261AB592) 
LOCATION:Abensberg, Bergstr. 26, OT Sandharlanden, Bergstr. 26, 93326 Abensberg
END:VEVENT
BEGIN:VEVENT
DTSTAMP:20260421T133313
DTSTART;TZID=Europe/Berlin:20261017T090000
DTEND;TZID=Europe/Berlin:20261017T180000
UID:261AB592-20261017T090000@STÄDTISCHE VOLKSHOCHSCHULE ABENSBERG UND NEUSTADT
SUMMARY:Krippenbaukurs für Anfänger und Fortgeschrittene (261AB592) 
LOCATION:Abensberg, Bergstr. 26, OT Sandharlanden, Bergstr. 26, 93326 Abensberg
END:VEVENT
BEGIN:VEVENT
DTSTAMP:20260421T133313
DTSTART;TZID=Europe/Berlin:20261023T130000
DTEND;TZID=Europe/Berlin:20261023T180000
UID:261AB592-20261023T130000@STÄDTISCHE VOLKSHOCHSCHULE ABENSBERG UND NEUSTADT
SUMMARY:Krippenbaukurs für Anfänger und Fortgeschrittene (261AB592) 
LOCATION:Abensberg, Bergstr. 26, OT Sandharlanden, Bergstr. 26, 93326 Abensberg
END:VEVENT
BEGIN:VEVENT
DTSTAMP:20260421T133313
DTSTART;TZID=Europe/Berlin:20261024T090000
DTEND;TZID=Europe/Berlin:20261024T180000
UID:261AB592-20261024T090000@STÄDTISCHE VOLKSHOCHSCHULE ABENSBERG UND NEUSTADT
SUMMARY:Krippenbaukurs für Anfänger und Fortgeschrittene (261AB592) 
LOCATION:Abensberg, Bergstr. 26, OT Sandharlanden, Bergstr. 26, 93326 Abensberg
END:VEVENT
BEGIN:VEVENT
DTSTAMP:20260421T133313
DTSTART;TZID=Europe/Berlin:20261030T130000
DTEND;TZID=Europe/Berlin:20261030T180000
UID:261AB592-20261030T130000@STÄDTISCHE VOLKSHOCHSCHULE ABENSBERG UND NEUSTADT
SUMMARY:Krippenbaukurs für Anfänger und Fortgeschrittene (261AB592) 
LOCATION:Abensberg, Bergstr. 26, OT Sandharlanden, Bergstr. 26, 93326 Abensberg
END:VEVENT
BEGIN:VEVENT
DTSTAMP:20260421T133313
DTSTART;TZID=Europe/Berlin:20261031T090000
DTEND;TZID=Europe/Berlin:20261031T180000
UID:261AB592-20261031T090000@STÄDTISCHE VOLKSHOCHSCHULE ABENSBERG UND NEUSTADT
SUMMARY:Krippenbaukurs für Anfänger und Fortgeschrittene (261AB592) 
LOCATION:Abensberg, Bergstr. 26, OT Sandharlanden, Bergstr. 26, 93326 Abensberg
END:VEVENT
END:VCALENDAR