BEGIN:VCALENDAR
VERSION:2.0
PRODID:http://www.kufer.de/kuferweb / DE
METHOD:PUBLISH
CALSCALE:GREGORIAN
X-WR-TIMEZONE:Europe/Berlin
BEGIN:VTIMEZONE
TZID:Europe/Berlin
X-LIC-LOCATION:Europe/Berlin
BEGIN:DAYLIGHT
TZOFFSETFROM:+0100
TZOFFSETTO:+0200
TZNAME:CEST
DTSTART;TZID=Europe/Berlin:19700329T020000
RRULE:FREQ=YEARLY;INTERVAL=1;BYDAY=-1SU;BYMONTH=3
END:DAYLIGHT
BEGIN:STANDARD
TZOFFSETFROM:+0200
TZOFFSETTO:+0100
TZNAME:CET
DTSTART;TZID=Europe/Berlin:19701025T030000
RRULE:FREQ=YEARLY;INTERVAL=1;BYDAY=-1SU;BYMONTH=10
END:STANDARD
END:VTIMEZONE
BEGIN:VEVENT
DTSTAMP:20260420T001932
DTSTART;TZID=Europe/Berlin:20260316T191500
DTEND;TZID=Europe/Berlin:20260316T201500
UID:261AB482A-20260316T191500@STÄDTISCHE VOLKSHOCHSCHULE ABENSBERG UND NEUSTADT
SUMMARY:Zumba® (261AB482A) 
LOCATION:Abensberg, Mittelschule GTB-Halle, Römerstraße 12, 93326 Abensberg
END:VEVENT
BEGIN:VEVENT
DTSTAMP:20260420T001932
DTSTART;TZID=Europe/Berlin:20260323T191500
DTEND;TZID=Europe/Berlin:20260323T201500
UID:261AB482A-20260323T191500@STÄDTISCHE VOLKSHOCHSCHULE ABENSBERG UND NEUSTADT
SUMMARY:Zumba® (261AB482A) 
LOCATION:Abensberg, Mittelschule GTB-Halle, Römerstraße 12, 93326 Abensberg
END:VEVENT
BEGIN:VEVENT
DTSTAMP:20260420T001932
DTSTART;TZID=Europe/Berlin:20260413T191500
DTEND;TZID=Europe/Berlin:20260413T201500
UID:261AB482A-20260413T191500@STÄDTISCHE VOLKSHOCHSCHULE ABENSBERG UND NEUSTADT
SUMMARY:Zumba® (261AB482A) 
LOCATION:Abensberg, Mittelschule GTB-Halle, Römerstraße 12, 93326 Abensberg
END:VEVENT
BEGIN:VEVENT
DTSTAMP:20260420T001932
DTSTART;TZID=Europe/Berlin:20260420T191500
DTEND;TZID=Europe/Berlin:20260420T201500
UID:261AB482A-20260420T191500@STÄDTISCHE VOLKSHOCHSCHULE ABENSBERG UND NEUSTADT
SUMMARY:Zumba® (261AB482A) 
LOCATION:Abensberg, Mittelschule GTB-Halle, Römerstraße 12, 93326 Abensberg
END:VEVENT
BEGIN:VEVENT
DTSTAMP:20260420T001932
DTSTART;TZID=Europe/Berlin:20260427T191500
DTEND;TZID=Europe/Berlin:20260427T201500
UID:261AB482A-20260427T191500@STÄDTISCHE VOLKSHOCHSCHULE ABENSBERG UND NEUSTADT
SUMMARY:Zumba® (261AB482A) 
LOCATION:Abensberg, Mittelschule GTB-Halle, Römerstraße 12, 93326 Abensberg
END:VEVENT
BEGIN:VEVENT
DTSTAMP:20260420T001932
DTSTART;TZID=Europe/Berlin:20260504T191500
DTEND;TZID=Europe/Berlin:20260504T201500
UID:261AB482A-20260504T191500@STÄDTISCHE VOLKSHOCHSCHULE ABENSBERG UND NEUSTADT
SUMMARY:Zumba® (261AB482A) 
LOCATION:Abensberg, Mittelschule GTB-Halle, Römerstraße 12, 93326 Abensberg
END:VEVENT
BEGIN:VEVENT
DTSTAMP:20260420T001932
DTSTART;TZID=Europe/Berlin:20260511T191500
DTEND;TZID=Europe/Berlin:20260511T201500
UID:261AB482A-20260511T191500@STÄDTISCHE VOLKSHOCHSCHULE ABENSBERG UND NEUSTADT
SUMMARY:Zumba® (261AB482A) 
LOCATION:Abensberg, Mittelschule GTB-Halle, Römerstraße 12, 93326 Abensberg
END:VEVENT
BEGIN:VEVENT
DTSTAMP:20260420T001932
DTSTART;TZID=Europe/Berlin:20260518T191500
DTEND;TZID=Europe/Berlin:20260518T201500
UID:261AB482A-20260518T191500@STÄDTISCHE VOLKSHOCHSCHULE ABENSBERG UND NEUSTADT
SUMMARY:Zumba® (261AB482A) 
LOCATION:Abensberg, Mittelschule GTB-Halle, Römerstraße 12, 93326 Abensberg
END:VEVENT
END:VCALENDAR