BEGIN:VCALENDAR
VERSION:2.0
PRODID:http://www.kufer.de/kuferweb / DE
METHOD:PUBLISH
CALSCALE:GREGORIAN
X-WR-TIMEZONE:Europe/Berlin
BEGIN:VTIMEZONE
TZID:Europe/Berlin
X-LIC-LOCATION:Europe/Berlin
BEGIN:DAYLIGHT
TZOFFSETFROM:+0100
TZOFFSETTO:+0200
TZNAME:CEST
DTSTART;TZID=Europe/Berlin:19700329T020000
RRULE:FREQ=YEARLY;INTERVAL=1;BYDAY=-1SU;BYMONTH=3
END:DAYLIGHT
BEGIN:STANDARD
TZOFFSETFROM:+0200
TZOFFSETTO:+0100
TZNAME:CET
DTSTART;TZID=Europe/Berlin:19701025T030000
RRULE:FREQ=YEARLY;INTERVAL=1;BYDAY=-1SU;BYMONTH=10
END:STANDARD
END:VTIMEZONE
BEGIN:VEVENT
DTSTAMP:20260420T075704
DTSTART;TZID=Europe/Berlin:20260613T100000
DTEND;TZID=Europe/Berlin:20260613T110000
UID:261AB475B-20260613T100000@STÄDTISCHE VOLKSHOCHSCHULE ABENSBERG UND NEUSTADT
SUMMARY:Pilates - Kraft, Balance & Wohlbefinden (261AB475B) 
LOCATION:Abensberg, vhs-Studio, Römerstr. 20, Römerstr. 20, 93326 Abensberg
END:VEVENT
BEGIN:VEVENT
DTSTAMP:20260420T075704
DTSTART;TZID=Europe/Berlin:20260620T100000
DTEND;TZID=Europe/Berlin:20260620T110000
UID:261AB475B-20260620T100000@STÄDTISCHE VOLKSHOCHSCHULE ABENSBERG UND NEUSTADT
SUMMARY:Pilates - Kraft, Balance & Wohlbefinden (261AB475B) 
LOCATION:Abensberg, vhs-Studio, Römerstr. 20, Römerstr. 20, 93326 Abensberg
END:VEVENT
BEGIN:VEVENT
DTSTAMP:20260420T075704
DTSTART;TZID=Europe/Berlin:20260627T100000
DTEND;TZID=Europe/Berlin:20260627T110000
UID:261AB475B-20260627T100000@STÄDTISCHE VOLKSHOCHSCHULE ABENSBERG UND NEUSTADT
SUMMARY:Pilates - Kraft, Balance & Wohlbefinden (261AB475B) 
LOCATION:Abensberg, vhs-Studio, Römerstr. 20, Römerstr. 20, 93326 Abensberg
END:VEVENT
BEGIN:VEVENT
DTSTAMP:20260420T075704
DTSTART;TZID=Europe/Berlin:20260704T100000
DTEND;TZID=Europe/Berlin:20260704T110000
UID:261AB475B-20260704T100000@STÄDTISCHE VOLKSHOCHSCHULE ABENSBERG UND NEUSTADT
SUMMARY:Pilates - Kraft, Balance & Wohlbefinden (261AB475B) 
LOCATION:Abensberg, vhs-Studio, Römerstr. 20, Römerstr. 20, 93326 Abensberg
END:VEVENT
BEGIN:VEVENT
DTSTAMP:20260420T075704
DTSTART;TZID=Europe/Berlin:20260711T100000
DTEND;TZID=Europe/Berlin:20260711T110000
UID:261AB475B-20260711T100000@STÄDTISCHE VOLKSHOCHSCHULE ABENSBERG UND NEUSTADT
SUMMARY:Pilates - Kraft, Balance & Wohlbefinden (261AB475B) 
LOCATION:Abensberg, vhs-Studio, Römerstr. 20, Römerstr. 20, 93326 Abensberg
END:VEVENT
BEGIN:VEVENT
DTSTAMP:20260420T075704
DTSTART;TZID=Europe/Berlin:20260718T100000
DTEND;TZID=Europe/Berlin:20260718T110000
UID:261AB475B-20260718T100000@STÄDTISCHE VOLKSHOCHSCHULE ABENSBERG UND NEUSTADT
SUMMARY:Pilates - Kraft, Balance & Wohlbefinden (261AB475B) 
LOCATION:Abensberg, vhs-Studio, Römerstr. 20, Römerstr. 20, 93326 Abensberg
END:VEVENT
BEGIN:VEVENT
DTSTAMP:20260420T075704
DTSTART;TZID=Europe/Berlin:20260725T100000
DTEND;TZID=Europe/Berlin:20260725T110000
UID:261AB475B-20260725T100000@STÄDTISCHE VOLKSHOCHSCHULE ABENSBERG UND NEUSTADT
SUMMARY:Pilates - Kraft, Balance & Wohlbefinden (261AB475B) 
LOCATION:Abensberg, vhs-Studio, Römerstr. 20, Römerstr. 20, 93326 Abensberg
END:VEVENT
END:VCALENDAR