BEGIN:VCALENDAR
VERSION:2.0
PRODID:http://www.kufer.de/kuferweb / DE
METHOD:PUBLISH
CALSCALE:GREGORIAN
X-WR-TIMEZONE:Europe/Berlin
BEGIN:VTIMEZONE
TZID:Europe/Berlin
X-LIC-LOCATION:Europe/Berlin
BEGIN:DAYLIGHT
TZOFFSETFROM:+0100
TZOFFSETTO:+0200
TZNAME:CEST
DTSTART;TZID=Europe/Berlin:19700329T020000
RRULE:FREQ=YEARLY;INTERVAL=1;BYDAY=-1SU;BYMONTH=3
END:DAYLIGHT
BEGIN:STANDARD
TZOFFSETFROM:+0200
TZOFFSETTO:+0100
TZNAME:CET
DTSTART;TZID=Europe/Berlin:19701025T030000
RRULE:FREQ=YEARLY;INTERVAL=1;BYDAY=-1SU;BYMONTH=10
END:STANDARD
END:VTIMEZONE
BEGIN:VEVENT
DTSTAMP:20260420T184708
DTSTART;TZID=Europe/Berlin:20260609T173000
DTEND;TZID=Europe/Berlin:20260609T183000
UID:261AB466B-20260609T173000@STÄDTISCHE VOLKSHOCHSCHULE ABENSBERG UND NEUSTADT
SUMMARY:Hatha Yoga (261AB466B) 
LOCATION:Abensberg, Aventinum - Daisy-Schlitter-Raum, Osterriedergasse 6, 93326 Abensberg
END:VEVENT
BEGIN:VEVENT
DTSTAMP:20260420T184708
DTSTART;TZID=Europe/Berlin:20260616T173000
DTEND;TZID=Europe/Berlin:20260616T183000
UID:261AB466B-20260616T173000@STÄDTISCHE VOLKSHOCHSCHULE ABENSBERG UND NEUSTADT
SUMMARY:Hatha Yoga (261AB466B) 
LOCATION:Abensberg, Aventinum - Daisy-Schlitter-Raum, Osterriedergasse 6, 93326 Abensberg
END:VEVENT
BEGIN:VEVENT
DTSTAMP:20260420T184708
DTSTART;TZID=Europe/Berlin:20260623T173000
DTEND;TZID=Europe/Berlin:20260623T183000
UID:261AB466B-20260623T173000@STÄDTISCHE VOLKSHOCHSCHULE ABENSBERG UND NEUSTADT
SUMMARY:Hatha Yoga (261AB466B) 
LOCATION:Abensberg, Aventinum - Daisy-Schlitter-Raum, Osterriedergasse 6, 93326 Abensberg
END:VEVENT
BEGIN:VEVENT
DTSTAMP:20260420T184708
DTSTART;TZID=Europe/Berlin:20260630T173000
DTEND;TZID=Europe/Berlin:20260630T183000
UID:261AB466B-20260630T173000@STÄDTISCHE VOLKSHOCHSCHULE ABENSBERG UND NEUSTADT
SUMMARY:Hatha Yoga (261AB466B) 
LOCATION:Abensberg, Aventinum - Daisy-Schlitter-Raum, Osterriedergasse 6, 93326 Abensberg
END:VEVENT
BEGIN:VEVENT
DTSTAMP:20260420T184708
DTSTART;TZID=Europe/Berlin:20260707T173000
DTEND;TZID=Europe/Berlin:20260707T183000
UID:261AB466B-20260707T173000@STÄDTISCHE VOLKSHOCHSCHULE ABENSBERG UND NEUSTADT
SUMMARY:Hatha Yoga (261AB466B) 
LOCATION:Abensberg, Aventinum - Daisy-Schlitter-Raum, Osterriedergasse 6, 93326 Abensberg
END:VEVENT
BEGIN:VEVENT
DTSTAMP:20260420T184708
DTSTART;TZID=Europe/Berlin:20260714T173000
DTEND;TZID=Europe/Berlin:20260714T183000
UID:261AB466B-20260714T173000@STÄDTISCHE VOLKSHOCHSCHULE ABENSBERG UND NEUSTADT
SUMMARY:Hatha Yoga (261AB466B) 
LOCATION:Abensberg, Aventinum - Daisy-Schlitter-Raum, Osterriedergasse 6, 93326 Abensberg
END:VEVENT
BEGIN:VEVENT
DTSTAMP:20260420T184708
DTSTART;TZID=Europe/Berlin:20260721T173000
DTEND;TZID=Europe/Berlin:20260721T183000
UID:261AB466B-20260721T173000@STÄDTISCHE VOLKSHOCHSCHULE ABENSBERG UND NEUSTADT
SUMMARY:Hatha Yoga (261AB466B) 
LOCATION:Abensberg, Aventinum - Daisy-Schlitter-Raum, Osterriedergasse 6, 93326 Abensberg
END:VEVENT
BEGIN:VEVENT
DTSTAMP:20260420T184708
DTSTART;TZID=Europe/Berlin:20260728T173000
DTEND;TZID=Europe/Berlin:20260728T183000
UID:261AB466B-20260728T173000@STÄDTISCHE VOLKSHOCHSCHULE ABENSBERG UND NEUSTADT
SUMMARY:Hatha Yoga (261AB466B) 
LOCATION:Abensberg, Aventinum - Daisy-Schlitter-Raum, Osterriedergasse 6, 93326 Abensberg
END:VEVENT
END:VCALENDAR