BEGIN:VCALENDAR
VERSION:2.0
PRODID:http://www.kufer.de/kuferweb / DE
METHOD:PUBLISH
CALSCALE:GREGORIAN
X-WR-TIMEZONE:Europe/Berlin
BEGIN:VTIMEZONE
TZID:Europe/Berlin
X-LIC-LOCATION:Europe/Berlin
BEGIN:DAYLIGHT
TZOFFSETFROM:+0100
TZOFFSETTO:+0200
TZNAME:CEST
DTSTART;TZID=Europe/Berlin:19700329T020000
RRULE:FREQ=YEARLY;INTERVAL=1;BYDAY=-1SU;BYMONTH=3
END:DAYLIGHT
BEGIN:STANDARD
TZOFFSETFROM:+0200
TZOFFSETTO:+0100
TZNAME:CET
DTSTART;TZID=Europe/Berlin:19701025T030000
RRULE:FREQ=YEARLY;INTERVAL=1;BYDAY=-1SU;BYMONTH=10
END:STANDARD
END:VTIMEZONE
BEGIN:VEVENT
DTSTAMP:20260422T070213
DTSTART;TZID=Europe/Berlin:20260511T140000
DTEND;TZID=Europe/Berlin:20260511T150000
UID:261AB452B-20260511T140000@STÄDTISCHE VOLKSHOCHSCHULE ABENSBERG UND NEUSTADT
SUMMARY:Gymnastik mit Stuhl für Senioren (261AB452B) 
LOCATION:Abensberg, Aventinum - Daisy-Schlitter-Raum, Osterriedergasse 6, 93326 Abensberg
END:VEVENT
BEGIN:VEVENT
DTSTAMP:20260422T070213
DTSTART;TZID=Europe/Berlin:20260518T140000
DTEND;TZID=Europe/Berlin:20260518T150000
UID:261AB452B-20260518T140000@STÄDTISCHE VOLKSHOCHSCHULE ABENSBERG UND NEUSTADT
SUMMARY:Gymnastik mit Stuhl für Senioren (261AB452B) 
LOCATION:Abensberg, Aventinum - Daisy-Schlitter-Raum, Osterriedergasse 6, 93326 Abensberg
END:VEVENT
BEGIN:VEVENT
DTSTAMP:20260422T070213
DTSTART;TZID=Europe/Berlin:20260608T140000
DTEND;TZID=Europe/Berlin:20260608T150000
UID:261AB452B-20260608T140000@STÄDTISCHE VOLKSHOCHSCHULE ABENSBERG UND NEUSTADT
SUMMARY:Gymnastik mit Stuhl für Senioren (261AB452B) 
LOCATION:Abensberg, Aventinum - Daisy-Schlitter-Raum, Osterriedergasse 6, 93326 Abensberg
END:VEVENT
BEGIN:VEVENT
DTSTAMP:20260422T070213
DTSTART;TZID=Europe/Berlin:20260615T140000
DTEND;TZID=Europe/Berlin:20260615T150000
UID:261AB452B-20260615T140000@STÄDTISCHE VOLKSHOCHSCHULE ABENSBERG UND NEUSTADT
SUMMARY:Gymnastik mit Stuhl für Senioren (261AB452B) 
LOCATION:Abensberg, Aventinum - Daisy-Schlitter-Raum, Osterriedergasse 6, 93326 Abensberg
END:VEVENT
BEGIN:VEVENT
DTSTAMP:20260422T070213
DTSTART;TZID=Europe/Berlin:20260706T140000
DTEND;TZID=Europe/Berlin:20260706T150000
UID:261AB452B-20260706T140000@STÄDTISCHE VOLKSHOCHSCHULE ABENSBERG UND NEUSTADT
SUMMARY:Gymnastik mit Stuhl für Senioren (261AB452B) 
LOCATION:Abensberg, Aventinum - Daisy-Schlitter-Raum, Osterriedergasse 6, 93326 Abensberg
END:VEVENT
BEGIN:VEVENT
DTSTAMP:20260422T070213
DTSTART;TZID=Europe/Berlin:20260713T140000
DTEND;TZID=Europe/Berlin:20260713T150000
UID:261AB452B-20260713T140000@STÄDTISCHE VOLKSHOCHSCHULE ABENSBERG UND NEUSTADT
SUMMARY:Gymnastik mit Stuhl für Senioren (261AB452B) 
LOCATION:Abensberg, Aventinum - Daisy-Schlitter-Raum, Osterriedergasse 6, 93326 Abensberg
END:VEVENT
BEGIN:VEVENT
DTSTAMP:20260422T070213
DTSTART;TZID=Europe/Berlin:20260720T140000
DTEND;TZID=Europe/Berlin:20260720T150000
UID:261AB452B-20260720T140000@STÄDTISCHE VOLKSHOCHSCHULE ABENSBERG UND NEUSTADT
SUMMARY:Gymnastik mit Stuhl für Senioren (261AB452B) 
LOCATION:Abensberg, Aventinum - Daisy-Schlitter-Raum, Osterriedergasse 6, 93326 Abensberg
END:VEVENT
BEGIN:VEVENT
DTSTAMP:20260422T070213
DTSTART;TZID=Europe/Berlin:20260727T140000
DTEND;TZID=Europe/Berlin:20260727T150000
UID:261AB452B-20260727T140000@STÄDTISCHE VOLKSHOCHSCHULE ABENSBERG UND NEUSTADT
SUMMARY:Gymnastik mit Stuhl für Senioren (261AB452B) 
LOCATION:Abensberg, Aventinum - Daisy-Schlitter-Raum, Osterriedergasse 6, 93326 Abensberg
END:VEVENT
END:VCALENDAR