BEGIN:VCALENDAR
VERSION:2.0
PRODID:http://www.kufer.de/kuferweb / DE
METHOD:PUBLISH
CALSCALE:GREGORIAN
X-WR-TIMEZONE:Europe/Berlin
BEGIN:VTIMEZONE
TZID:Europe/Berlin
X-LIC-LOCATION:Europe/Berlin
BEGIN:DAYLIGHT
TZOFFSETFROM:+0100
TZOFFSETTO:+0200
TZNAME:CEST
DTSTART;TZID=Europe/Berlin:19700329T020000
RRULE:FREQ=YEARLY;INTERVAL=1;BYDAY=-1SU;BYMONTH=3
END:DAYLIGHT
BEGIN:STANDARD
TZOFFSETFROM:+0200
TZOFFSETTO:+0100
TZNAME:CET
DTSTART;TZID=Europe/Berlin:19701025T030000
RRULE:FREQ=YEARLY;INTERVAL=1;BYDAY=-1SU;BYMONTH=10
END:STANDARD
END:VTIMEZONE
BEGIN:VEVENT
DTSTAMP:20260420T035434
DTSTART;TZID=Europe/Berlin:20260417T093000
DTEND;TZID=Europe/Berlin:20260417T110000
UID:261AB425-20260417T093000@STÄDTISCHE VOLKSHOCHSCHULE ABENSBERG UND NEUSTADT
SUMMARY:Mutter-Kind-Gruppe - für Frauen aus allen Kulturen (261AB425) 
LOCATION:Abensberg, TreffPunkt, Bahnhofstraße, 93326 Abensberg
END:VEVENT
BEGIN:VEVENT
DTSTAMP:20260420T035434
DTSTART;TZID=Europe/Berlin:20260424T093000
DTEND;TZID=Europe/Berlin:20260424T110000
UID:261AB425-20260424T093000@STÄDTISCHE VOLKSHOCHSCHULE ABENSBERG UND NEUSTADT
SUMMARY:Mutter-Kind-Gruppe - für Frauen aus allen Kulturen (261AB425) 
LOCATION:Abensberg, TreffPunkt, Bahnhofstraße, 93326 Abensberg
END:VEVENT
BEGIN:VEVENT
DTSTAMP:20260420T035434
DTSTART;TZID=Europe/Berlin:20260508T093000
DTEND;TZID=Europe/Berlin:20260508T110000
UID:261AB425-20260508T093000@STÄDTISCHE VOLKSHOCHSCHULE ABENSBERG UND NEUSTADT
SUMMARY:Mutter-Kind-Gruppe - für Frauen aus allen Kulturen (261AB425) 
LOCATION:Abensberg, TreffPunkt, Bahnhofstraße, 93326 Abensberg
END:VEVENT
BEGIN:VEVENT
DTSTAMP:20260420T035434
DTSTART;TZID=Europe/Berlin:20260522T093000
DTEND;TZID=Europe/Berlin:20260522T110000
UID:261AB425-20260522T093000@STÄDTISCHE VOLKSHOCHSCHULE ABENSBERG UND NEUSTADT
SUMMARY:Mutter-Kind-Gruppe - für Frauen aus allen Kulturen (261AB425) 
LOCATION:Abensberg, TreffPunkt, Bahnhofstraße, 93326 Abensberg
END:VEVENT
BEGIN:VEVENT
DTSTAMP:20260420T035434
DTSTART;TZID=Europe/Berlin:20260612T093000
DTEND;TZID=Europe/Berlin:20260612T110000
UID:261AB425-20260612T093000@STÄDTISCHE VOLKSHOCHSCHULE ABENSBERG UND NEUSTADT
SUMMARY:Mutter-Kind-Gruppe - für Frauen aus allen Kulturen (261AB425) 
LOCATION:Abensberg, TreffPunkt, Bahnhofstraße, 93326 Abensberg
END:VEVENT
BEGIN:VEVENT
DTSTAMP:20260420T035434
DTSTART;TZID=Europe/Berlin:20260619T093000
DTEND;TZID=Europe/Berlin:20260619T110000
UID:261AB425-20260619T093000@STÄDTISCHE VOLKSHOCHSCHULE ABENSBERG UND NEUSTADT
SUMMARY:Mutter-Kind-Gruppe - für Frauen aus allen Kulturen (261AB425) 
LOCATION:Abensberg, TreffPunkt, Bahnhofstraße, 93326 Abensberg
END:VEVENT
BEGIN:VEVENT
DTSTAMP:20260420T035434
DTSTART;TZID=Europe/Berlin:20260626T093000
DTEND;TZID=Europe/Berlin:20260626T110000
UID:261AB425-20260626T093000@STÄDTISCHE VOLKSHOCHSCHULE ABENSBERG UND NEUSTADT
SUMMARY:Mutter-Kind-Gruppe - für Frauen aus allen Kulturen (261AB425) 
LOCATION:Abensberg, TreffPunkt, Bahnhofstraße, 93326 Abensberg
END:VEVENT
END:VCALENDAR