BEGIN:VCALENDAR
VERSION:2.0
PRODID:http://www.kufer.de/kuferweb / DE
METHOD:PUBLISH
CALSCALE:GREGORIAN
X-WR-TIMEZONE:Europe/Berlin
BEGIN:VTIMEZONE
TZID:Europe/Berlin
X-LIC-LOCATION:Europe/Berlin
BEGIN:DAYLIGHT
TZOFFSETFROM:+0100
TZOFFSETTO:+0200
TZNAME:CEST
DTSTART;TZID=Europe/Berlin:19700329T020000
RRULE:FREQ=YEARLY;INTERVAL=1;BYDAY=-1SU;BYMONTH=3
END:DAYLIGHT
BEGIN:STANDARD
TZOFFSETFROM:+0200
TZOFFSETTO:+0100
TZNAME:CET
DTSTART;TZID=Europe/Berlin:19701025T030000
RRULE:FREQ=YEARLY;INTERVAL=1;BYDAY=-1SU;BYMONTH=10
END:STANDARD
END:VTIMEZONE
BEGIN:VEVENT
DTSTAMP:20260421T133318
DTSTART;TZID=Europe/Berlin:20260417T103000
DTEND;TZID=Europe/Berlin:20260417T114500
UID:261AB422-20260417T103000@STÄDTISCHE VOLKSHOCHSCHULE ABENSBERG UND NEUSTADT
SUMMARY:FenKid 1 für Eltern mit Babys von 3 bis 9 Monaten (261AB422) 
LOCATION:Abensberg, Aventinum - Musikraum 3, Osterriedergasse 6, 93326 Abensberg
END:VEVENT
BEGIN:VEVENT
DTSTAMP:20260421T133318
DTSTART;TZID=Europe/Berlin:20260424T103000
DTEND;TZID=Europe/Berlin:20260424T114500
UID:261AB422-20260424T103000@STÄDTISCHE VOLKSHOCHSCHULE ABENSBERG UND NEUSTADT
SUMMARY:FenKid 1 für Eltern mit Babys von 3 bis 9 Monaten (261AB422) 
LOCATION:Abensberg, Aventinum - Musikraum 3, Osterriedergasse 6, 93326 Abensberg
END:VEVENT
BEGIN:VEVENT
DTSTAMP:20260421T133318
DTSTART;TZID=Europe/Berlin:20260508T103000
DTEND;TZID=Europe/Berlin:20260508T114500
UID:261AB422-20260508T103000@STÄDTISCHE VOLKSHOCHSCHULE ABENSBERG UND NEUSTADT
SUMMARY:FenKid 1 für Eltern mit Babys von 3 bis 9 Monaten (261AB422) 
LOCATION:Abensberg, Aventinum - Musikraum 3, Osterriedergasse 6, 93326 Abensberg
END:VEVENT
BEGIN:VEVENT
DTSTAMP:20260421T133318
DTSTART;TZID=Europe/Berlin:20260515T103000
DTEND;TZID=Europe/Berlin:20260515T114500
UID:261AB422-20260515T103000@STÄDTISCHE VOLKSHOCHSCHULE ABENSBERG UND NEUSTADT
SUMMARY:FenKid 1 für Eltern mit Babys von 3 bis 9 Monaten (261AB422) 
LOCATION:Abensberg, Aventinum - Musikraum 3, Osterriedergasse 6, 93326 Abensberg
END:VEVENT
BEGIN:VEVENT
DTSTAMP:20260421T133318
DTSTART;TZID=Europe/Berlin:20260522T103000
DTEND;TZID=Europe/Berlin:20260522T114500
UID:261AB422-20260522T103000@STÄDTISCHE VOLKSHOCHSCHULE ABENSBERG UND NEUSTADT
SUMMARY:FenKid 1 für Eltern mit Babys von 3 bis 9 Monaten (261AB422) 
LOCATION:Abensberg, Aventinum - Musikraum 3, Osterriedergasse 6, 93326 Abensberg
END:VEVENT
BEGIN:VEVENT
DTSTAMP:20260421T133318
DTSTART;TZID=Europe/Berlin:20260612T103000
DTEND;TZID=Europe/Berlin:20260612T114500
UID:261AB422-20260612T103000@STÄDTISCHE VOLKSHOCHSCHULE ABENSBERG UND NEUSTADT
SUMMARY:FenKid 1 für Eltern mit Babys von 3 bis 9 Monaten (261AB422) 
LOCATION:Abensberg, Aventinum - Musikraum 3, Osterriedergasse 6, 93326 Abensberg
END:VEVENT
BEGIN:VEVENT
DTSTAMP:20260421T133318
DTSTART;TZID=Europe/Berlin:20260619T103000
DTEND;TZID=Europe/Berlin:20260619T114500
UID:261AB422-20260619T103000@STÄDTISCHE VOLKSHOCHSCHULE ABENSBERG UND NEUSTADT
SUMMARY:FenKid 1 für Eltern mit Babys von 3 bis 9 Monaten (261AB422) 
LOCATION:Abensberg, Aventinum - Musikraum 3, Osterriedergasse 6, 93326 Abensberg
END:VEVENT
BEGIN:VEVENT
DTSTAMP:20260421T133318
DTSTART;TZID=Europe/Berlin:20260703T103000
DTEND;TZID=Europe/Berlin:20260703T114500
UID:261AB422-20260703T103000@STÄDTISCHE VOLKSHOCHSCHULE ABENSBERG UND NEUSTADT
SUMMARY:FenKid 1 für Eltern mit Babys von 3 bis 9 Monaten (261AB422) 
LOCATION:Abensberg, Aventinum - Musikraum 3, Osterriedergasse 6, 93326 Abensberg
END:VEVENT
BEGIN:VEVENT
DTSTAMP:20260421T133318
DTSTART;TZID=Europe/Berlin:20260710T103000
DTEND;TZID=Europe/Berlin:20260710T114500
UID:261AB422-20260710T103000@STÄDTISCHE VOLKSHOCHSCHULE ABENSBERG UND NEUSTADT
SUMMARY:FenKid 1 für Eltern mit Babys von 3 bis 9 Monaten (261AB422) 
LOCATION:Abensberg, Aventinum - Musikraum 3, Osterriedergasse 6, 93326 Abensberg
END:VEVENT
BEGIN:VEVENT
DTSTAMP:20260421T133318
DTSTART;TZID=Europe/Berlin:20260717T103000
DTEND;TZID=Europe/Berlin:20260717T114500
UID:261AB422-20260717T103000@STÄDTISCHE VOLKSHOCHSCHULE ABENSBERG UND NEUSTADT
SUMMARY:FenKid 1 für Eltern mit Babys von 3 bis 9 Monaten (261AB422) 
LOCATION:Abensberg, Aventinum - Musikraum 3, Osterriedergasse 6, 93326 Abensberg
END:VEVENT
END:VCALENDAR