BEGIN:VCALENDAR
VERSION:2.0
PRODID:http://www.kufer.de/kuferweb / DE
METHOD:PUBLISH
CALSCALE:GREGORIAN
X-WR-TIMEZONE:Europe/Berlin
BEGIN:VTIMEZONE
TZID:Europe/Berlin
X-LIC-LOCATION:Europe/Berlin
BEGIN:DAYLIGHT
TZOFFSETFROM:+0100
TZOFFSETTO:+0200
TZNAME:CEST
DTSTART;TZID=Europe/Berlin:19700329T020000
RRULE:FREQ=YEARLY;INTERVAL=1;BYDAY=-1SU;BYMONTH=3
END:DAYLIGHT
BEGIN:STANDARD
TZOFFSETFROM:+0200
TZOFFSETTO:+0100
TZNAME:CET
DTSTART;TZID=Europe/Berlin:19701025T030000
RRULE:FREQ=YEARLY;INTERVAL=1;BYDAY=-1SU;BYMONTH=10
END:STANDARD
END:VTIMEZONE
BEGIN:VEVENT
DTSTAMP:20260419T171548
DTSTART;TZID=Europe/Berlin:20260206T173000
DTEND;TZID=Europe/Berlin:20260206T190000
UID:252ND306B-20260206T173000@STÄDTISCHE VOLKSHOCHSCHULE ABENSBERG UND NEUSTADT
SUMMARY:Englischkurs für Wiedereinsteiger – Schritt für Schritt zurück ins Sprachgefühl (252ND306B) 
LOCATION:Neustadt, Kulturhaus Storchenwirt, Raum 2.2, Stadtplatz 13 , 93333 Neustadt an der Donau 
END:VEVENT
BEGIN:VEVENT
DTSTAMP:20260419T171548
DTSTART;TZID=Europe/Berlin:20260213T173000
DTEND;TZID=Europe/Berlin:20260213T190000
UID:252ND306B-20260213T173000@STÄDTISCHE VOLKSHOCHSCHULE ABENSBERG UND NEUSTADT
SUMMARY:Englischkurs für Wiedereinsteiger – Schritt für Schritt zurück ins Sprachgefühl (252ND306B) 
LOCATION:Neustadt, Kulturhaus Storchenwirt, Raum 2.2, Stadtplatz 13 , 93333 Neustadt an der Donau 
END:VEVENT
BEGIN:VEVENT
DTSTAMP:20260419T171548
DTSTART;TZID=Europe/Berlin:20260227T173000
DTEND;TZID=Europe/Berlin:20260227T190000
UID:252ND306B-20260227T173000@STÄDTISCHE VOLKSHOCHSCHULE ABENSBERG UND NEUSTADT
SUMMARY:Englischkurs für Wiedereinsteiger – Schritt für Schritt zurück ins Sprachgefühl (252ND306B) 
LOCATION:Neustadt, Kulturhaus Storchenwirt, Raum 2.2, Stadtplatz 13 , 93333 Neustadt an der Donau 
END:VEVENT
BEGIN:VEVENT
DTSTAMP:20260419T171548
DTSTART;TZID=Europe/Berlin:20260306T173000
DTEND;TZID=Europe/Berlin:20260306T190000
UID:252ND306B-20260306T173000@STÄDTISCHE VOLKSHOCHSCHULE ABENSBERG UND NEUSTADT
SUMMARY:Englischkurs für Wiedereinsteiger – Schritt für Schritt zurück ins Sprachgefühl (252ND306B) 
LOCATION:Neustadt, Kulturhaus Storchenwirt, Raum 2.2, Stadtplatz 13 , 93333 Neustadt an der Donau 
END:VEVENT
BEGIN:VEVENT
DTSTAMP:20260419T171548
DTSTART;TZID=Europe/Berlin:20260313T173000
DTEND;TZID=Europe/Berlin:20260313T190000
UID:252ND306B-20260313T173000@STÄDTISCHE VOLKSHOCHSCHULE ABENSBERG UND NEUSTADT
SUMMARY:Englischkurs für Wiedereinsteiger – Schritt für Schritt zurück ins Sprachgefühl (252ND306B) 
LOCATION:Neustadt, Kulturhaus Storchenwirt, Raum 2.2, Stadtplatz 13 , 93333 Neustadt an der Donau 
END:VEVENT
BEGIN:VEVENT
DTSTAMP:20260419T171548
DTSTART;TZID=Europe/Berlin:20260320T173000
DTEND;TZID=Europe/Berlin:20260320T190000
UID:252ND306B-20260320T173000@STÄDTISCHE VOLKSHOCHSCHULE ABENSBERG UND NEUSTADT
SUMMARY:Englischkurs für Wiedereinsteiger – Schritt für Schritt zurück ins Sprachgefühl (252ND306B) 
LOCATION:Neustadt, Kulturhaus Storchenwirt, Raum 2.2, Stadtplatz 13 , 93333 Neustadt an der Donau 
END:VEVENT
BEGIN:VEVENT
DTSTAMP:20260419T171548
DTSTART;TZID=Europe/Berlin:20260327T173000
DTEND;TZID=Europe/Berlin:20260327T190000
UID:252ND306B-20260327T173000@STÄDTISCHE VOLKSHOCHSCHULE ABENSBERG UND NEUSTADT
SUMMARY:Englischkurs für Wiedereinsteiger – Schritt für Schritt zurück ins Sprachgefühl (252ND306B) 
LOCATION:Neustadt, Kulturhaus Storchenwirt, Raum 2.2, Stadtplatz 13 , 93333 Neustadt an der Donau 
END:VEVENT
BEGIN:VEVENT
DTSTAMP:20260419T171548
DTSTART;TZID=Europe/Berlin:20260417T173000
DTEND;TZID=Europe/Berlin:20260417T190000
UID:252ND306B-20260417T173000@STÄDTISCHE VOLKSHOCHSCHULE ABENSBERG UND NEUSTADT
SUMMARY:Englischkurs für Wiedereinsteiger – Schritt für Schritt zurück ins Sprachgefühl (252ND306B) 
LOCATION:Neustadt, Kulturhaus Storchenwirt, Raum 2.2, Stadtplatz 13 , 93333 Neustadt an der Donau 
END:VEVENT
BEGIN:VEVENT
DTSTAMP:20260419T171548
DTSTART;TZID=Europe/Berlin:20260424T173000
DTEND;TZID=Europe/Berlin:20260424T190000
UID:252ND306B-20260424T173000@STÄDTISCHE VOLKSHOCHSCHULE ABENSBERG UND NEUSTADT
SUMMARY:Englischkurs für Wiedereinsteiger – Schritt für Schritt zurück ins Sprachgefühl (252ND306B) 
LOCATION:Neustadt, Kulturhaus Storchenwirt, Raum 2.2, Stadtplatz 13 , 93333 Neustadt an der Donau 
END:VEVENT
BEGIN:VEVENT
DTSTAMP:20260419T171548
DTSTART;TZID=Europe/Berlin:20260508T173000
DTEND;TZID=Europe/Berlin:20260508T190000
UID:252ND306B-20260508T173000@STÄDTISCHE VOLKSHOCHSCHULE ABENSBERG UND NEUSTADT
SUMMARY:Englischkurs für Wiedereinsteiger – Schritt für Schritt zurück ins Sprachgefühl (252ND306B) 
LOCATION:Neustadt, Kulturhaus Storchenwirt, Raum 2.2, Stadtplatz 13 , 93333 Neustadt an der Donau 
END:VEVENT
END:VCALENDAR