BEGIN:VCALENDAR
VERSION:2.0
PRODID:http://www.kufer.de/kuferweb / DE
METHOD:PUBLISH
CALSCALE:GREGORIAN
X-WR-TIMEZONE:Europe/Berlin
BEGIN:VTIMEZONE
TZID:Europe/Berlin
X-LIC-LOCATION:Europe/Berlin
BEGIN:DAYLIGHT
TZOFFSETFROM:+0100
TZOFFSETTO:+0200
TZNAME:CEST
DTSTART;TZID=Europe/Berlin:19700329T020000
RRULE:FREQ=YEARLY;INTERVAL=1;BYDAY=-1SU;BYMONTH=3
END:DAYLIGHT
BEGIN:STANDARD
TZOFFSETFROM:+0200
TZOFFSETTO:+0100
TZNAME:CET
DTSTART;TZID=Europe/Berlin:19701025T030000
RRULE:FREQ=YEARLY;INTERVAL=1;BYDAY=-1SU;BYMONTH=10
END:STANDARD
END:VTIMEZONE
BEGIN:VEVENT
DTSTAMP:20260421T083355
DTSTART;TZID=Europe/Berlin:20260116T103000
DTEND;TZID=Europe/Berlin:20260116T114500
UID:252AB417B-20260116T103000@STÄDTISCHE VOLKSHOCHSCHULE ABENSBERG UND NEUSTADT
SUMMARY:FenKid 1 für Eltern mit Babys von 3 bis 9 Monaten (252AB417B) 
LOCATION:Abensberg, Aventinum - Musikraum 3, Osterriedergasse 6, 93326 Abensberg
END:VEVENT
BEGIN:VEVENT
DTSTAMP:20260421T083355
DTSTART;TZID=Europe/Berlin:20260123T103000
DTEND;TZID=Europe/Berlin:20260123T114500
UID:252AB417B-20260123T103000@STÄDTISCHE VOLKSHOCHSCHULE ABENSBERG UND NEUSTADT
SUMMARY:FenKid 1 für Eltern mit Babys von 3 bis 9 Monaten (252AB417B) 
LOCATION:Abensberg, Aventinum - Musikraum 3, Osterriedergasse 6, 93326 Abensberg
END:VEVENT
BEGIN:VEVENT
DTSTAMP:20260421T083355
DTSTART;TZID=Europe/Berlin:20260130T103000
DTEND;TZID=Europe/Berlin:20260130T114500
UID:252AB417B-20260130T103000@STÄDTISCHE VOLKSHOCHSCHULE ABENSBERG UND NEUSTADT
SUMMARY:FenKid 1 für Eltern mit Babys von 3 bis 9 Monaten (252AB417B) 
LOCATION:Abensberg, Aventinum - Musikraum 3, Osterriedergasse 6, 93326 Abensberg
END:VEVENT
BEGIN:VEVENT
DTSTAMP:20260421T083355
DTSTART;TZID=Europe/Berlin:20260206T103000
DTEND;TZID=Europe/Berlin:20260206T114500
UID:252AB417B-20260206T103000@STÄDTISCHE VOLKSHOCHSCHULE ABENSBERG UND NEUSTADT
SUMMARY:FenKid 1 für Eltern mit Babys von 3 bis 9 Monaten (252AB417B) 
LOCATION:Abensberg, Aventinum - Musikraum 3, Osterriedergasse 6, 93326 Abensberg
END:VEVENT
BEGIN:VEVENT
DTSTAMP:20260421T083355
DTSTART;TZID=Europe/Berlin:20260213T103000
DTEND;TZID=Europe/Berlin:20260213T114500
UID:252AB417B-20260213T103000@STÄDTISCHE VOLKSHOCHSCHULE ABENSBERG UND NEUSTADT
SUMMARY:FenKid 1 für Eltern mit Babys von 3 bis 9 Monaten (252AB417B) 
LOCATION:Abensberg, Aventinum - Musikraum 3, Osterriedergasse 6, 93326 Abensberg
END:VEVENT
BEGIN:VEVENT
DTSTAMP:20260421T083355
DTSTART;TZID=Europe/Berlin:20260227T103000
DTEND;TZID=Europe/Berlin:20260227T114500
UID:252AB417B-20260227T103000@STÄDTISCHE VOLKSHOCHSCHULE ABENSBERG UND NEUSTADT
SUMMARY:FenKid 1 für Eltern mit Babys von 3 bis 9 Monaten (252AB417B) 
LOCATION:Abensberg, Aventinum - Musikraum 3, Osterriedergasse 6, 93326 Abensberg
END:VEVENT
BEGIN:VEVENT
DTSTAMP:20260421T083355
DTSTART;TZID=Europe/Berlin:20260306T103000
DTEND;TZID=Europe/Berlin:20260306T114500
UID:252AB417B-20260306T103000@STÄDTISCHE VOLKSHOCHSCHULE ABENSBERG UND NEUSTADT
SUMMARY:FenKid 1 für Eltern mit Babys von 3 bis 9 Monaten (252AB417B) 
LOCATION:Abensberg, Aventinum - Musikraum 3, Osterriedergasse 6, 93326 Abensberg
END:VEVENT
BEGIN:VEVENT
DTSTAMP:20260421T083355
DTSTART;TZID=Europe/Berlin:20260313T103000
DTEND;TZID=Europe/Berlin:20260313T114500
UID:252AB417B-20260313T103000@STÄDTISCHE VOLKSHOCHSCHULE ABENSBERG UND NEUSTADT
SUMMARY:FenKid 1 für Eltern mit Babys von 3 bis 9 Monaten (252AB417B) 
LOCATION:Abensberg, Aventinum - Musikraum 3, Osterriedergasse 6, 93326 Abensberg
END:VEVENT
BEGIN:VEVENT
DTSTAMP:20260421T083355
DTSTART;TZID=Europe/Berlin:20260320T103000
DTEND;TZID=Europe/Berlin:20260320T114500
UID:252AB417B-20260320T103000@STÄDTISCHE VOLKSHOCHSCHULE ABENSBERG UND NEUSTADT
SUMMARY:FenKid 1 für Eltern mit Babys von 3 bis 9 Monaten (252AB417B) 
LOCATION:Abensberg, Aventinum - Musikraum 3, Osterriedergasse 6, 93326 Abensberg
END:VEVENT
BEGIN:VEVENT
DTSTAMP:20260421T083355
DTSTART;TZID=Europe/Berlin:20260327T103000
DTEND;TZID=Europe/Berlin:20260327T114500
UID:252AB417B-20260327T103000@STÄDTISCHE VOLKSHOCHSCHULE ABENSBERG UND NEUSTADT
SUMMARY:FenKid 1 für Eltern mit Babys von 3 bis 9 Monaten (252AB417B) 
LOCATION:Abensberg, Aventinum - Musikraum 3, Osterriedergasse 6, 93326 Abensberg
END:VEVENT
END:VCALENDAR